BEGIN:VCALENDAR
VERSION:2.0
PRODID:-//RoADaR Southern Riders - ECPv6.6.1//NONSGML v1.0//EN
CALSCALE:GREGORIAN
METHOD:PUBLISH
X-WR-CALNAME:RoADaR Southern Riders
X-ORIGINAL-URL:https://www.southernriders.org
X-WR-CALDESC:Events for RoADaR Southern Riders
REFRESH-INTERVAL;VALUE=DURATION:PT1H
X-Robots-Tag:noindex
X-PUBLISHED-TTL:PT1H
BEGIN:VTIMEZONE
TZID:UTC
BEGIN:STANDARD
TZOFFSETFROM:+0000
TZOFFSETTO:+0000
TZNAME:UTC
DTSTART:20230101T000000
END:STANDARD
END:VTIMEZONE
BEGIN:VEVENT
DTSTART;TZID=UTC:20231203T083000
DTEND;TZID=UTC:20231203T140000
DTSTAMP:20260421T161811
CREATED:20221029T151641Z
LAST-MODIFIED:20250920T104006Z
UID:4091-1701592200-1701612000@www.southernriders.org
SUMMARY:Mickeys Group Training Sunday  * CANCELLED *
DESCRIPTION:*** Owing to the poor weather forecast for Saturday night\, Sunday morning; this event has been cancelled *** \nArrive early for coffee and chat – anything from 8:45. \nInstructor allocation and training commences at 9:30. \n  \nIf the weather is below 3C overnight\, then this session will be automatically cancelled. \n** All members to carry your membership card on club activities. **
URL:https://www.southernriders.org/event/mickeys-group-training-sunday-21/
LOCATION:Mickey’s Diner\, Old Chatham Road\, Aylesford\, Maidstone\, Kent\, ME20 7EZ\, United Kingdom
CATEGORIES:Monthly Meet Up,Training
ATTACH;FMTTYPE=image/jpeg:https://www.southernriders.org/wp-content/uploads/2021/08/collection2.jpg
END:VEVENT
END:VCALENDAR