BEGIN:VCALENDAR
VERSION:2.0
PRODID:-//RoADaR Southern Riders - ECPv6.6.1//NONSGML v1.0//EN
CALSCALE:GREGORIAN
METHOD:PUBLISH
X-WR-CALNAME:RoADaR Southern Riders
X-ORIGINAL-URL:https://www.southernriders.org
X-WR-CALDESC:Events for RoADaR Southern Riders
REFRESH-INTERVAL;VALUE=DURATION:PT1H
X-Robots-Tag:noindex
X-PUBLISHED-TTL:PT1H
BEGIN:VTIMEZONE
TZID:UTC
BEGIN:STANDARD
TZOFFSETFROM:+0000
TZOFFSETTO:+0000
TZNAME:UTC
DTSTART:20240101T000000
END:STANDARD
END:VTIMEZONE
BEGIN:VEVENT
DTSTART;TZID=UTC:20240331T093000
DTEND;TZID=UTC:20240331T160000
DTSTAMP:20260421T092327
CREATED:20231107T100349Z
LAST-MODIFIED:20250920T104022Z
UID:4566-1711877400-1711900800@www.southernriders.org
SUMMARY:March EOM Ride Out
DESCRIPTION:On offer for your pleasure courtesy of our Treasurer Jonathan Baker\, is a multi-county extravaganza up to Silverstone. \n\n\n\nRIDE DETAILS\nSunday March 31\, at 9:45am for a pre-ride briefing – Start: 10:00am.  Return anticipated around 15:00 – for those who return with JB (see below).  If you want a coffee / tea ahead of the briefing – please arrive earlier (9:15am suggested) \nMeeting Point Location:  The Starbuck Drive-Thru Car Park\, Beaconsfield Services off Junction 2 of the M40 \nClosest Petrol Station:  The Shell station in the Services.  For those not wishing to pay motorway service prices – there is an Esso about a mile away (Wycombe End\, Beaconsfield\, HP9 1XA) \nPre-ride coffee/tea: Starbucks !  (Duh !!)   Also – Services has plenty of options. \nLunch stop: Silverstone Museum Cafe – NN12 8TN \nRide Description: \nA total of 5 counties can be touched on this 80’ish mile route through the countryside on mostly B roads but with a couple of A roads and the odd single track to keep the Adventure Bike owners happy.\nWe will travel through: Bucks\, Oxon\, Northamptonshire with a touch of Warwickshire and Hertfordshire.\nLunch will be at the Silverstone Museum Cafe where riders can either stay\, visit the museum and then return home using the A43 and the motorway of their choice or return with me back to Beaconsfield Services via a similar type but different 80 ish mile route also featuring mostly B roads but rising past the front gate of Chequers.\nTotal distance about 160 miles.\nRide time: 2.5 hours each way approximately. \nOutward Route/ Return Route:  as above \n\n** New and Recent members – remember please you will need to have had your Initial Assessment Ride with an Instructor to attend this and any other club riding activities \n** All members please carry your membership card on this and all club activities \n\nREGISTRATION \nThere are no restrictions on how many can join the ride\, but we ask that you please register by emailing the ride leader.  See details below. \n\nWeather \nAs with all Group Ride Outs\, please note that if the overnight temperature is forecast to be below 3C degrees at the ride start point\, the ride out will be cancelled automatically.   There will not normally be a second notification if this is the case. We only use the BBC Weather for information.\n \nBack-Marker System\nOne of the riders will need to Back-Mark so any volunteer for this please advise the ride leader when you register for the ride.  If you have an orange Hi-Viz please bring it with you\, or one may be provided on the day\, or dependant on the size of the group an alternative marker may be agreed. \nPlease make sure you are fully conversant with the rules of the “BACK-MARKER SYSTEM“.  Following these correctly is vital to the smooth running of the day and reduces the risk of losing someone or everyone. Details of the BM system are on our Southernriders.org  website.   If you’re unsure on the day\, ask one of the attending Ride Leader. They will be more than happy to clarify any issues you have. \nHi-Viz\nIf you wear hi-viz\, please ensure it is not Orange as this is reserved for the ‘back-marker’ during our ride-outs.  We appreciate you may normally wear an orange hi-viz whilst riding. However\, some find it confusing when in the middle of the group to see two or more riders with the orange hi-viz.  So\, in an effort to avoid confusion and markers leaving their post prematurely ONLY the back-marker is to wear orange hi-viz.   Thank you
URL:https://www.southernriders.org/event/march-end-of-month-ride/
LOCATION:Beaconsfield M40 Services\, A355\, Windsor End\, Beaconsfield\, HP9 2SE\, United Kingdom
CATEGORIES:Ride Out
ATTACH;FMTTYPE=image/png:https://www.southernriders.org/wp-content/uploads/2023/11/Andy-Reohorn-EOM-e1708428422432.png
ORGANIZER;CN="Jonathan Baker":MAILTO:jaybee1603@me.com
END:VEVENT
END:VCALENDAR