BEGIN:VCALENDAR
VERSION:2.0
PRODID:-//RoADaR Southern Riders - ECPv6.6.1//NONSGML v1.0//EN
CALSCALE:GREGORIAN
METHOD:PUBLISH
X-WR-CALNAME:RoADaR Southern Riders
X-ORIGINAL-URL:https://www.southernriders.org
X-WR-CALDESC:Events for RoADaR Southern Riders
REFRESH-INTERVAL;VALUE=DURATION:PT1H
X-Robots-Tag:noindex
X-PUBLISHED-TTL:PT1H
BEGIN:VTIMEZONE
TZID:UTC
BEGIN:STANDARD
TZOFFSETFROM:+0000
TZOFFSETTO:+0000
TZNAME:UTC
DTSTART:20240101T000000
END:STANDARD
END:VTIMEZONE
BEGIN:VEVENT
DTSTART;TZID=UTC:20240526T090000
DTEND;TZID=UTC:20240526T160000
DTSTAMP:20260421T054459
CREATED:20231107T101324Z
LAST-MODIFIED:20250920T104038Z
UID:4570-1716714000-1716739200@www.southernriders.org
SUMMARY:May EOM Ride Out
DESCRIPTION:This months ride is an adventure with Peter Burfiend and is a summers day ride through Sussex. \n\n\n\nRIDE DETAILS \nSunday 26th May : 9am for a 9:15am pre-ride briefing and 9:30am Start. Return anticipated  4:30pm. \nMeeting Point Location: BP Services Ashington A24 \nClosest Petrol Station:  at meet point \nPre-ride coffee/tea : at meet point \nLunch stop:  Custom Café\, Bexhill-on-Sea A259 TN39 4QR \nRide Description:\nComfortable day’s riding\, about 160 miles round trip through the Sussex countryside. Taking in smaller A and B roads\, some twisties and a few nadgery country lanes to hopefully cater for all tastes.\n \nReturning to Ashington services approx 16:30 \n\n** New and Recent members – remember please you will need to have had your Initial Assessment Ride with an Instructor to attend this and any other club riding activities \n** All members please carry your membership card on this and all club activities \n\nREGISTRATION \nThere are no restrictions on how many can join the ride\, but we ask that you please register by emailing the ride leader.  See details below. \n\nWeather\nAs with all Group Ride Outs\, please note that if the overnight temperature is forecast to be below 3C degrees at the ride start point\, the ride out will be cancelled automatically.   There will not normally be a second notification if this is the case. \nBack-Marker System\nOne of the riders will need to Back-Mark so any volunteer for this please advise the ride leader when you register for the ride.  If you have an orange Hi-Viz please bring it with you\, or one may be provided on the day\, or dependant on the size of the group an alternative marker may be agreed. \nPlease make sure you are fully conversant with the rules of the “BACK-MARKER SYSTEM“.  Following these correctly is vital to the smooth running of the day and reduces the risk of losing someone or everyone. Details of the BM system are on our Southernriders.org  website.   If you’re unsure on the day\, ask one of the attending Ride Leader. They will be more than happy to clarify any issues you have. \nHi-Viz\nIf you wear hi-viz\, please ensure it is not Orange as this is reserved for the ‘back-marker’ during our ride-outs.  We appreciate you may normally wear an orange hi-viz whilst riding. However\, some find it confusing when in the middle of the group to see two or more riders with the orange hi-viz.  So\, in an effort to avoid confusion and markers leaving their post prematurely ONLY the back-marker is to wear orange hi-viz.   Thank you
URL:https://www.southernriders.org/event/may-end-of-month-ride/
LOCATION:Ashington Services\, BP\, London Road\, ASHINGTON\, East Sussex\, RH20 3AT\, United Kingdom
CATEGORIES:Ride Out
ATTACH;FMTTYPE=image/jpeg:https://www.southernriders.org/wp-content/uploads/2021/08/Birling-Gapp-road.jpg
ORGANIZER;CN="Peter Purfiend":MAILTO:peter@burfiend.co.uk
END:VEVENT
END:VCALENDAR