BEGIN:VCALENDAR
VERSION:2.0
PRODID:-//RoADaR Southern Riders - ECPv6.6.1//NONSGML v1.0//EN
CALSCALE:GREGORIAN
METHOD:PUBLISH
X-WR-CALNAME:RoADaR Southern Riders
X-ORIGINAL-URL:https://www.southernriders.org
X-WR-CALDESC:Events for RoADaR Southern Riders
REFRESH-INTERVAL;VALUE=DURATION:PT1H
X-Robots-Tag:noindex
X-PUBLISHED-TTL:PT1H
BEGIN:VTIMEZONE
TZID:UTC
BEGIN:STANDARD
TZOFFSETFROM:+0000
TZOFFSETTO:+0000
TZNAME:UTC
DTSTART:20240101T000000
END:STANDARD
END:VTIMEZONE
BEGIN:VEVENT
DTSTART;TZID=UTC:20241124T083000
DTEND;TZID=UTC:20241124T160000
DTSTAMP:20260420T134324
CREATED:20231107T103057Z
LAST-MODIFIED:20250920T104058Z
UID:4590-1732437000-1732464000@www.southernriders.org
SUMMARY:November EOM Ride Out
DESCRIPTION:On offer for your pleasure courtesy of one of our newer instructors\, Bobby Thomson O’Connor has a lovely ride up into the wilds of Essex to Hylands Park. \n\n\n\nRIDE DETAILS\nSunday November 24th. Setting off from Dartford Services – with a briefing at 08:45\, leaving at 09:00.  Return by 3pm.  Come earlier for a coffee / chat beforehand. \nMeeting Point Location:  Dartford Service\, DA1 1YT \nClosest Petrol Station:  At start \nPre-ride coffee/tea:  At start (McDonalds) \nLunch stop: Hyland Park and Gardens \nRide Description \nAfter an unavoidable bit of the M25 through the tunnel – the remainder of the ride will be mainly A and B roads.  A mid-morning tea stop is planned if time allows.\nReturn will be more direct – to allow enough daylight after the ride to let people get home.\nReturn by around 15:00 for a total of approx 140 miles. \n  \n\n** New and Recent members – remember please you will need to have had your Initial Assessment Ride with an Instructor to attend this and any other club riding activities \n** All members please carry your membership card on this and all club activities \n\nREGISTRATION \nThere are no restrictions on how many can join the ride\, but we ask that you please register by emailing the ride leader.  See details below. \n\nWeather\nAs with all Group Ride Outs\, please note that if the overnight temperature is forecast to be 3C degrees or below at the ride start meeting place\, the ride out will be cancelled automatically.   There will not normally be a second notification if this is the case.  We only use the BBC Weather for our information.\n  \nBack-Marker System\nOne of the riders will need to Back-Mark so any volunteer for this please advise the ride leader when you register for the ride.  If you have an orange Hi-Viz please bring it with you\, or one may be provided on the day\, or dependant on the size of the group an alternative marker may be agreed. \nPlease make sure you are fully conversant with the rules of the “BACK-MARKER SYSTEM“.  Following these correctly is vital to the smooth running of the day and reduces the risk of losing someone or everyone. Details of the BM system are on our Southernriders.org  website.   If you’re unsure on the day\, ask one of the attending Ride Leader. They will be more than happy to clarify any issues you have. \nHi-Viz\nIf you wear hi-viz\, please ensure it is not Orange as this is reserved for the ‘back-marker’ during our ride-outs.  We appreciate you may normally wear an orange hi-viz whilst riding. However\, some find it confusing when in the middle of the group to see two or more riders with the orange hi-viz.  So\, in an effort to avoid confusion and markers leaving their post prematurely ONLY the back-marker is to wear orange hi-viz.   Thank you
URL:https://www.southernriders.org/event/november-eom-ride-out-3/
LOCATION:BP / McDonalds Princes Road\, Dartford\, 474 Princes Rd\, Dartford\, DA1 1YT\, United Kingdom
CATEGORIES:Ride Out
ATTACH;FMTTYPE=image/png:https://www.southernriders.org/wp-content/uploads/2023/11/Andy-Reohorn-EOM-e1708428422432.png
ORGANIZER;CN="Bobby Thomson O'Connor":MAILTO:bobbythomsonoconnor@gmail.com
END:VEVENT
END:VCALENDAR