BEGIN:VCALENDAR
VERSION:2.0
PRODID:-//RoADaR Southern Riders - ECPv6.6.1//NONSGML v1.0//EN
CALSCALE:GREGORIAN
METHOD:PUBLISH
X-ORIGINAL-URL:https://www.southernriders.org
X-WR-CALDESC:Events for RoADaR Southern Riders
REFRESH-INTERVAL;VALUE=DURATION:PT1H
X-Robots-Tag:noindex
X-PUBLISHED-TTL:PT1H
BEGIN:VTIMEZONE
TZID:UTC
BEGIN:STANDARD
TZOFFSETFROM:+0000
TZOFFSETTO:+0000
TZNAME:UTC
DTSTART:20250101T000000
END:STANDARD
END:VTIMEZONE
BEGIN:VEVENT
DTSTART;VALUE=DATE:20250601
DTEND;VALUE=DATE:20250607
DTSTAMP:20260420T011234
CREATED:20241205T090614Z
LAST-MODIFIED:20250920T104127Z
UID:5125-1748736000-1749254399@www.southernriders.org
SUMMARY:Northern Borders Tour/Wizz 2025
DESCRIPTION:The Northern Tour (Wizz)\, from 1st – 6th June 2024 inclusive\, assuming a day travelling each way.   This will give us 4 full days riding in the North of England\, comprising a day in each of the following areas: \n\nYorkshire Dale/Moors\nThe Eastern Scottish Borders and Lammermuir Hills\nDumfries and Galloway\nThe Lake District.\n\nCosts are expected to be around £80 per room per night ( x 5 nights = £400) for single occupancy B&B\, but are to be confirmed.  An extra charge for twin/double occupation of a room will apply but can be shared.  We provisionally have 11 rooms (double and twin) with the option of a few more\, if we are quick and there is sufficient interest. \nWe will require a £100 deposit to secure your place and this will be required late Jan / early Feb. \nPlease register by emailing your interest to aspalm600@gmail.com – and providing some basic information\, including: \n\nPreferred room type [Single occupancy\, Shared occupancy (twin beds)\, Shared occupancy (double bed)\, Single preferred but willing to share (twin beds)]\nBike make / model / range\n\nFull details of the tour will be provided later to those confirmed. \nIf interest is in excess of room availability then a reserve list will be created.
URL:https://www.southernriders.org/event/northern-borders-tour-wizz-2025/
CATEGORIES:Tour,Wizz
ATTACH;FMTTYPE=image/png:https://www.southernriders.org/wp-content/uploads/2022/12/Wiltshire-Ducati-e1704786533947.png
ORGANIZER;CN="Andy Palmer":MAILTO:aspalm600@gmail.com
END:VEVENT
BEGIN:VEVENT
DTSTART;TZID=UTC:20250601T083000
DTEND;TZID=UTC:20250601T140000
DTSTAMP:20260420T011234
CREATED:20241014T094510Z
LAST-MODIFIED:20250920T104127Z
UID:5018-1748766600-1748786400@www.southernriders.org
SUMMARY:Mickeys Group Sunday Training
DESCRIPTION:Arrive early for coffee and chat – anything from 8:45am \nInstructor allocation for initial assessments and on-going training commences at 9:30am \nNo need to book/register – simply turn up\, all welcome. \nIf the weather is 3C or below overnight\, then this session will be automatically cancelled. \nWe only use the BBC Weather for our information.  Click below to check for Mickeys\n  \n** All members to carry your membership card on club activities. **
URL:https://www.southernriders.org/event/mickeys-group-sunday-training-14/
LOCATION:Mickey’s Diner\, Old Chatham Road\, Aylesford\, Maidstone\, Kent\, ME20 7EZ\, United Kingdom
CATEGORIES:Monthly Meet Up,Training
ATTACH;FMTTYPE=image/jpeg:https://www.southernriders.org/wp-content/uploads/2021/08/collection2.jpg
ORGANIZER;CN="Paul Ingleton":MAILTO:p.p.ingleton@btinternet.com
END:VEVENT
END:VCALENDAR