BEGIN:VCALENDAR
VERSION:2.0
PRODID:-//RoADaR Southern Riders - ECPv6.6.1//NONSGML v1.0//EN
CALSCALE:GREGORIAN
METHOD:PUBLISH
X-ORIGINAL-URL:https://www.southernriders.org
X-WR-CALDESC:Events for RoADaR Southern Riders
REFRESH-INTERVAL;VALUE=DURATION:PT1H
X-Robots-Tag:noindex
X-PUBLISHED-TTL:PT1H
BEGIN:VTIMEZONE
TZID:UTC
BEGIN:STANDARD
TZOFFSETFROM:+0000
TZOFFSETTO:+0000
TZNAME:UTC
DTSTART:20240101T000000
END:STANDARD
END:VTIMEZONE
BEGIN:VEVENT
DTSTART;TZID=UTC:20241229T090000
DTEND;TZID=UTC:20241229T150000
DTSTAMP:20260419T215534
CREATED:20231107T103235Z
LAST-MODIFIED:20250920T104058Z
UID:4592-1735462800-1735484400@www.southernriders.org
SUMMARY:December / Year End - EOM Ride Out
DESCRIPTION:For our Year End ride\, we have a ride led through Kent and Sussex by one of our existing gold level riders – Rish Rai. \n\n\n\nRIDE DETAILS \nSunday December 29th – Meeting at 09:00 for a 09:20 briefing\, and a departure at 09:30 sharp.  Ride finishes around 15:00. \nMeeting Point Location:  Shell\, London Road\, Wrotham\, Sevenoaks\, TN15 7RR.  Coffee\, snacks\, toilets available on site. \nClosest Petrol Station:  At start point \nPre-ride coffee/tea:  At start point \nLunch stop: Route 1066 Cafe\, Robertsbridge \nRide Description: Outbound – A ride on A & B roads through the Kent and East Sussex countryside – passing through Brenchley\, Horsmonden\, Lamberhurst\, Burwash.  Pit stop at Little Bull Cafe Brenchley. \nReturn – back via Rolvenden\, Benenden – finishing at McDonalds on the A228 in Snodland / Holland in north Kent.\nTotal trip ~110 miles. \n  \n\n** New and Recent members – remember please you will need to have had your Initial Assessment Ride with an Instructor to attend this and any other club riding activities \n** All members please carry your membership card on this and all club activities \n\nREGISTRATION \nThere are no restrictions on how many can join the ride\, but we ask that you please register by emailing the ride leader.  See details below. \n\nWeather\nAs with all Group Ride Outs\, please note that if the overnight temperature is forecast to be 3C degrees or below at the ride start meeting place\, the ride out will be cancelled automatically.   There will not normally be a second notification if this is the case.  We only use the BBC Weather for our information.\n  \nBack-Marker System\nOne of the riders will need to Back-Mark so any volunteer for this please advise the ride leader when you register for the ride.  If you have an orange Hi-Viz please bring it with you\, or one may be provided on the day\, or dependant on the size of the group an alternative marker may be agreed. \nPlease make sure you are fully conversant with the rules of the “BACK-MARKER SYSTEM“.  Following these correctly is vital to the smooth running of the day and reduces the risk of losing someone or everyone. Details of the BM system are on our Southernriders.org  website.   If you’re unsure on the day\, ask one of the attending Ride Leader. They will be more than happy to clarify any issues you have. \nHi-Viz\nIf you wear hi-viz\, please ensure it is not Orange as this is reserved for the ‘back-marker’ during our ride-outs.  We appreciate you may normally wear an orange hi-viz whilst riding. However\, some find it confusing when in the middle of the group to see two or more riders with the orange hi-viz.  So\, in an effort to avoid confusion and markers leaving their post prematurely ONLY the back-marker is to wear orange hi-viz.   Thank you
URL:https://www.southernriders.org/event/december-year-end-eom-ride-out/
LOCATION:Sevonoaks Shell\, Shell\, London Road\, Wrotham\, Sevenoaks\, TN15 7RR\, Sevenoaks\, Kent\, TN15 7RR\, United Kingdom
CATEGORIES:Ride Out
ATTACH;FMTTYPE=image/png:https://www.southernriders.org/wp-content/uploads/2021/08/Ducati-logo-e1651683048729.png
ORGANIZER;CN="David Buttery":MAILTO:davidcbuttery@googlemail.com
END:VEVENT
END:VCALENDAR