BEGIN:VCALENDAR
VERSION:2.0
PRODID:-//RoADaR Southern Riders - ECPv6.6.1//NONSGML v1.0//EN
CALSCALE:GREGORIAN
METHOD:PUBLISH
X-WR-CALNAME:RoADaR Southern Riders
X-ORIGINAL-URL:https://www.southernriders.org
X-WR-CALDESC:Events for RoADaR Southern Riders
REFRESH-INTERVAL;VALUE=DURATION:PT1H
X-Robots-Tag:noindex
X-PUBLISHED-TTL:PT1H
BEGIN:VTIMEZONE
TZID:UTC
BEGIN:STANDARD
TZOFFSETFROM:+0000
TZOFFSETTO:+0000
TZNAME:UTC
DTSTART:20250101T000000
END:STANDARD
END:VTIMEZONE
BEGIN:VEVENT
DTSTART;TZID=UTC:20250427T083000
DTEND;TZID=UTC:20250427T153000
DTSTAMP:20260419T164044
CREATED:20241003T150117Z
LAST-MODIFIED:20250920T104112Z
UID:4956-1745742600-1745767800@www.southernriders.org
SUMMARY:April EOM Ride Out
DESCRIPTION:On offer for your pleasure courtesy of our very own Kent Area Chief Instructor\, Paul Ingleton\, is a lovely ride through Kent and Sussex down to the coast fo lunch. \n\n\n\nRIDE DETAILS \nSunday April 27th.  Meet at McDonalds in East Grinstead for an 08:45 briefing\, and departure at 09:00am.\nMeeting Point Location:  McDonalds in East Grinstead (RH19 1ET) \nClosest Petrol Station:  Jet next door\, or Esso in the one way system \nPre-ride coffee/tea: At McDonalds\, arrive early if needed. \nLunch stop: The Pilot Inn at Dungeness \nRide Description \nA lovely ride through the Sussex and Kent countryside (A roads and B roads)\, with a petrol stop at Brenzett) prior to lunch down on the coast at The Pilot\, Dungeness.  The return will be through Kent to Mickeys Diner (north of Maidstone).  The ride should finish around 3pm. \n  \n\n** New and Recent members – remember please you will need to have had your Initial Assessment Ride with an Instructor to attend this and any other club riding activities \n** All members please carry your membership card on this and all club activities \n\nREGISTRATION \nThere are no restrictions on how many can join the ride\, but we ask that you please register by emailing the ride leader.  See details below. \n\nWeather\nAs with all Group Ride Outs\, please note that if the overnight temperature is forecast to be 3C degrees or below at the ride start meeting place\, the ride out will be cancelled automatically.   There will not normally be a second notification if this is the case.  We only use the BBC Weather for our information.\n  \nBack-Marker System\nOne of the riders will need to Back-Mark so any volunteer for this please advise the ride leader when you register for the ride.  If you have an orange Hi-Viz please bring it with you\, or one may be provided on the day\, or dependant on the size of the group an alternative marker may be agreed. \nPlease make sure you are fully conversant with the rules of the “BACK-MARKER SYSTEM“.  Following these correctly is vital to the smooth running of the day and reduces the risk of losing someone or everyone. Details of the BM system are on our Southernriders.org  website.   If you’re unsure on the day\, ask one of the attending Ride Leader. They will be more than happy to clarify any issues you have. \nHi-Viz\nIf you wear hi-viz\, please ensure it is not Orange as this is reserved for the ‘back-marker’ during our ride-outs.  We appreciate you may normally wear an orange hi-viz whilst riding. However\, some find it confusing when in the middle of the group to see two or more riders with the orange hi-viz.  So\, in an effort to avoid confusion and markers leaving their post prematurely ONLY the back-marker is to wear orange hi-viz.   Thank you
URL:https://www.southernriders.org/event/april-eom-ride-out-3/
LOCATION:McD’s – East Grinstead\, 165 LONDON ROAD\, East Grinstead\, RH19 1ET\, United Kingdom
CATEGORIES:Ride Out
ATTACH;FMTTYPE=image/jpeg:https://www.southernriders.org/wp-content/uploads/2024/10/Ducati-red.jpeg
ORGANIZER;CN="Paul Ingleton":MAILTO:p.p.ingleton@btinternet.com
END:VEVENT
END:VCALENDAR