BEGIN:VCALENDAR
VERSION:2.0
PRODID:-//RoADaR Southern Riders - ECPv6.6.1//NONSGML v1.0//EN
CALSCALE:GREGORIAN
METHOD:PUBLISH
X-WR-CALNAME:RoADaR Southern Riders
X-ORIGINAL-URL:https://www.southernriders.org
X-WR-CALDESC:Events for RoADaR Southern Riders
REFRESH-INTERVAL;VALUE=DURATION:PT1H
X-Robots-Tag:noindex
X-PUBLISHED-TTL:PT1H
BEGIN:VTIMEZONE
TZID:UTC
BEGIN:STANDARD
TZOFFSETFROM:+0000
TZOFFSETTO:+0000
TZNAME:UTC
DTSTART:20240101T000000
END:STANDARD
END:VTIMEZONE
BEGIN:VEVENT
DTSTART;TZID=UTC:20240407T083000
DTEND;TZID=UTC:20240407T140000
DTSTAMP:20260421T054500
CREATED:20231107T105404Z
LAST-MODIFIED:20250920T104022Z
UID:4595-1712478600-1712498400@www.southernriders.org
SUMMARY:Mickeys Group Sunday Training
DESCRIPTION:Arrive early for coffee and chat – anything from 8:45am \nInstructor allocation for initial assessments and on-going training commences at 9:30am \nNo need to book/register – simply turn up\, all welcome. \nIf the weather is below 3C overnight\, then this session will be automatically cancelled. \n** All members to carry your membership card on club activities. **
URL:https://www.southernriders.org/event/mickeys-group-sunday-training/
LOCATION:Mickey’s Diner\, Old Chatham Road\, Aylesford\, Maidstone\, Kent\, ME20 7EZ\, United Kingdom
CATEGORIES:Training
ATTACH;FMTTYPE=image/jpeg:https://www.southernriders.org/wp-content/uploads/2021/08/collection2.jpg
ORGANIZER;CN="Paul Ingleton":MAILTO:p.p.ingleton@btinternet.com
END:VEVENT
BEGIN:VEVENT
DTSTART;TZID=UTC:20240414T083000
DTEND;TZID=UTC:20240414T140000
DTSTAMP:20260421T054500
CREATED:20231107T111055Z
LAST-MODIFIED:20250920T104022Z
UID:4615-1713083400-1713103200@www.southernriders.org
SUMMARY:Tulleys Group Training Sunday
DESCRIPTION:Arrive early for coffee and chat – anything from 8:45am \nInstructor allocation for initial assessments and on-going training commences at 9:30am \nNo need to book/register – simply turn up\, all welcome. \nIf the weather is below 3C overnight\, then this session will be automatically cancelled. \n** All members to carry your membership card on club activities. **
URL:https://www.southernriders.org/event/tulleys-group-training-sunday-28/
LOCATION:Tulleys Farm\, Tulleys Escape Rooms\, Turners Hill Rd\, Worth\, Crawley Down\, Crawley\, West Sussex\, RH10 4PE\, United Kingdom
CATEGORIES:Training
ATTACH;FMTTYPE=image/jpeg:https://www.southernriders.org/wp-content/uploads/2021/08/Collection3.jpg
ORGANIZER;CN="Andy Palmer":MAILTO:aspalm600@gmail.com
END:VEVENT
BEGIN:VEVENT
DTSTART;TZID=UTC:20240417T093000
DTEND;TZID=UTC:20240417T150000
DTSTAMP:20260421T054500
CREATED:20231107T111252Z
LAST-MODIFIED:20250920T104022Z
UID:4613-1713346200-1713366000@www.southernriders.org
SUMMARY:Tulleys Group Training - mid Month Wednesday
DESCRIPTION:Arrive early for coffee and chat – anything from 9:45am \nInstructor allocation for initial assessments and on-going training commences at 10:30am \nNo need to book/register – simply turn up\, all welcome. \nIf the weather is below 3C overnight\, then this session will be automatically cancelled. \n** All members to carry your membership card on club activities. **
URL:https://www.southernriders.org/event/tulleys-group-training-mid-month-wednesday-13/
CATEGORIES:Monthly Meet Up,Training
ATTACH;FMTTYPE=image/jpeg:https://www.southernriders.org/wp-content/uploads/2021/10/Tulleys.jpg
END:VEVENT
BEGIN:VEVENT
DTSTART;VALUE=DATE:20240418
DTEND;VALUE=DATE:20240422
DTSTAMP:20260421T054500
CREATED:20240109T163532Z
LAST-MODIFIED:20250920T104022Z
UID:4722-1713477600-1713736799@www.southernriders.org
SUMMARY:Road School 2024
DESCRIPTION:If you would like the experience of a weekend of dedicated/focused SMART rider training in mid April\, then this could be just for you. \nThere are two meeting points on Friday 19th\, one early morning in Sussex and the other is lunch-time at the Haynes Museum for those wishing to make a direct DIY route. \nOnce you have been confirmed\, then the organisers will provide more details and of course how and when to pay. \nDates:                        April 19th to April 21st\, 2024Accommodation:     Premier InnBasis:                        Bed & Breakfast.Cost:                          £77 per person\, per night. (£154 total) plus food and fuel \nPlaces are limited to the number of available instructors\, so reserve your place quickly.If you think this maybe something you would be interested in\, then please reply to treasurer@southernriders.orgFull details will then be forwarded
URL:https://www.southernriders.org/event/road-school-april-2024/
CATEGORIES:Ride School,Training
ATTACH;FMTTYPE=image/png:https://www.southernriders.org/wp-content/uploads/2024/01/Instruction-1-2-1-small.png
ORGANIZER;CN="Andy Palmer":MAILTO:aspalm600@gmail.com
END:VEVENT
BEGIN:VEVENT
DTSTART;VALUE=DATE:20240428
DTEND;VALUE=DATE:20240503
DTSTAMP:20260421T054500
CREATED:20230928T135438Z
LAST-MODIFIED:20250920T104022Z
UID:4492-1714262400-1714694399@www.southernriders.org
SUMMARY:Isle of Man Tour/Wizz 2024
DESCRIPTION:Our first Wizz for 2024 and as usual we kick it off in style with a visit to the mighty Isle of Man. \nThis is open to all the membership and will be a five (5) day trip;  three (3) on the island with a day either side to travel up and back home.  Overall\, you can expect to be covering around 1300-1500 miles\, planned and organised into manageable stages in true SMART tradition. As usual we avoid the annual TT dates to miss the crowds and enjoy the amazing quiet roads and beauty of the isle. \nWe shall of course\, ride the infamous TT circuit\, at least once which is over 37 miles of superbly prepared and maintained road through every type of environment imaginable and guaranteed variety of weather conditions and temperatures all in one circuit. The Island is not just about the TT Circuit\, so we shall mostly be using the wide variety of roads the island offers\, especially those less seen and used with all the majestic scenery the island offers. \nThere are some classic bike museums on the island and so we plan to be visiting at least one of these during the trip too. \n\nAccommodation as previous years\, will be with the Arrandale hotel in Douglas\, with restaurants and bars within a short walk for our evening meals.\nHotel costs have been held at 2023 prices £45 ppn for Twin Sharing and £70 pn for a Single.  Board will be B&B.  As far as rooms are concerned\, we shall endeavour to meet your room preference\, but availability may mean compromises.  The 2024 Ferry prices are currently unpublished\, but anticipate they will be circa £130 return per bike.  We shall be departing from Liverpool and the return will be to either Liverpool or Heysham. [We will update further once timetables and costs are published]. \nLunches will be at iconic motorcycling locations on the island (Creg ny Baa pub\, Victory Cafe and Peel Castle or a new cafe on the TT circuit if open)\, with evening meals at a couple of well tried restaurants. \nDates are expected to be April 28 – May 2nd\, 2024 with 15 places for riders. \n\nImportant:\nWhilst our Wizzes are open to all and encourage Wizz newbies; we do have some safety criteria that you must meet. \nSo before you come forward and to avoid disappointment please read our Prepare for a Wizz and ensure you are comfortable with the advice and that you do or will meet the criteria. If in any doubt as to the suitability of this trip then please discuss with your Instructor or directly with me \n  \nIf you would like more information or wish to reserve your place and join us then please contact Andrew Jupp – atwjupp@yahoo.com clearly stating your room preference.
URL:https://www.southernriders.org/event/isle-of-man-wizz-2024/
CATEGORIES:Tour,Wizz
ATTACH;FMTTYPE=image/png:https://www.southernriders.org/wp-content/uploads/2021/08/creg-ny-baa.png
ORGANIZER;CN="Andrew Jupp":MAILTO:atwjupp@yahoo.com
END:VEVENT
BEGIN:VEVENT
DTSTART;TZID=UTC:20240428T093000
DTEND;TZID=UTC:20240428T160000
DTSTAMP:20260421T054500
CREATED:20231107T100533Z
LAST-MODIFIED:20250920T104022Z
UID:4568-1714296600-1714320000@www.southernriders.org
SUMMARY:April EOM Ride Out
DESCRIPTION:For your enjoyment we have a scenic ride through some of the best roads and countryside that Sussex and Hampshire have to offer\, courtesy of Clare Thurgar.  Mainly on minor roads\, B roads and smaller A roads.  Approx 150 mi. \n\n\n\nRIDE DETAILS \nSunday April 28th at 9:45am for a pre-ride briefing\, and a departure at 10:00am.  Finishing (at a different location) at approx 16:30. \nMeeting Point Location:  Tulleys Farm\, Turners Hill Rd\, Crawley RH10 4PE \nClosest Petrol Station:  Texaco on B2036. 4 miles north of Tulleys farm. \nPre-ride coffee/tea: Available at the cafe at Tulleys.  Please arrive early enough to have any pre-ride refreshments in plenty of time before the pre-ride briefing. \nLunch stop: Comfort stop at Midhurst (note that this is a ten minute turn-around)\, with a possible refuel at Alton – 64 miles from start.  Lunch planned at The Departure Lounge – Alton\, Basingstoke road – GU34 4BH at approx 12:30. \nRide Description \nWe start our journey through the back roads of Sussex\, riding to Midhurst\, taking in some fabulous stretches of road.\nAt Midhurst we will have a brief pitstop. From here we cut across minor roads to Liss and on up to Alton.  At Alton we can re-fuel and stop for lunch.\nAfter lunch we will continue our journey northwards missing the worst of the speed restrictions before sweeping down to New Alresford.  We continue our journey south through some of the best that Hampshire has to offer in terms of roads and views\, before heading east towards Petersfield.  From Petersfield we will cut down towards Chichester to pick up the B2141. Another stretch of fabulous road. We will then wind our way back up to the A272 and on to finish in Billingshurst –\nthe new development has the lot – fuel\, coffees + much  more \nFinish:  The ride will finish at Costa at Billingshurst – RH14 9LY. \n\n** New and Recent members – remember please you will need to have had your Initial Assessment Ride with an Instructor to attend this and any other club riding activities \n** All members please carry your membership card on this and all club activities \n\nREGISTRATION \nThere are no restrictions on how many can join the ride\, but we ask that you please register by emailing the ride leader.  See details below. \n\nWeather\nAs with all Group Ride Outs\, please note that if the overnight temperature is forecast to be below 3C degrees at the ride start point\, the ride out will be cancelled automatically.   There will not normally be a second notification if this is the case. \nBack-Marker System\nOne of the riders will need to Back-Mark so any volunteer for this please advise the ride leader when you register for the ride.  If you have an orange Hi-Viz please bring it with you\, or one may be provided on the day\, or dependant on the size of the group an alternative marker may be agreed. \nPlease make sure you are fully conversant with the rules of the “BACK-MARKER SYSTEM“.  Following these correctly is vital to the smooth running of the day and reduces the risk of losing someone or everyone. Details of the BM system are on our Southernriders.org  website.   If you’re unsure on the day\, ask one of the attending Ride Leader. They will be more than happy to clarify any issues you have. \nHi-Viz\nIf you wear hi-viz\, please ensure it is not Orange as this is reserved for the ‘back-marker’ during our ride-outs.  We appreciate you may normally wear an orange hi-viz whilst riding. However\, some find it confusing when in the middle of the group to see two or more riders with the orange hi-viz.  So\, in an effort to avoid confusion and markers leaving their post prematurely ONLY the back-marker is to wear orange hi-viz.   Thank you
URL:https://www.southernriders.org/event/april-end-of-month-ride/
LOCATION:Tulleys Farm\, Tulleys Escape Rooms\, Turners Hill Rd\, Worth\, Crawley Down\, Crawley\, West Sussex\, RH10 4PE\, United Kingdom
CATEGORIES:Ride Out
ATTACH;FMTTYPE=image/png:https://www.southernriders.org/wp-content/uploads/2021/08/Ducati-logo-e1651683048729.png
ORGANIZER;CN="Clare Thurgar":MAILTO:clarethurgar2@gmail.com
END:VEVENT
END:VCALENDAR