BEGIN:VCALENDAR
VERSION:2.0
PRODID:-//RoADaR Southern Riders - ECPv6.6.1//NONSGML v1.0//EN
CALSCALE:GREGORIAN
METHOD:PUBLISH
X-ORIGINAL-URL:https://www.southernriders.org
X-WR-CALDESC:Events for RoADaR Southern Riders
REFRESH-INTERVAL;VALUE=DURATION:PT1H
X-Robots-Tag:noindex
X-PUBLISHED-TTL:PT1H
BEGIN:VTIMEZONE
TZID:UTC
BEGIN:STANDARD
TZOFFSETFROM:+0000
TZOFFSETTO:+0000
TZNAME:UTC
DTSTART:20240101T000000
END:STANDARD
END:VTIMEZONE
BEGIN:VEVENT
DTSTART;VALUE=DATE:20240428
DTEND;VALUE=DATE:20240503
DTSTAMP:20260421T035247
CREATED:20230928T135438Z
LAST-MODIFIED:20250920T104022Z
UID:4492-1714262400-1714694399@www.southernriders.org
SUMMARY:Isle of Man Tour/Wizz 2024
DESCRIPTION:Our first Wizz for 2024 and as usual we kick it off in style with a visit to the mighty Isle of Man. \nThis is open to all the membership and will be a five (5) day trip;  three (3) on the island with a day either side to travel up and back home.  Overall\, you can expect to be covering around 1300-1500 miles\, planned and organised into manageable stages in true SMART tradition. As usual we avoid the annual TT dates to miss the crowds and enjoy the amazing quiet roads and beauty of the isle. \nWe shall of course\, ride the infamous TT circuit\, at least once which is over 37 miles of superbly prepared and maintained road through every type of environment imaginable and guaranteed variety of weather conditions and temperatures all in one circuit. The Island is not just about the TT Circuit\, so we shall mostly be using the wide variety of roads the island offers\, especially those less seen and used with all the majestic scenery the island offers. \nThere are some classic bike museums on the island and so we plan to be visiting at least one of these during the trip too. \n\nAccommodation as previous years\, will be with the Arrandale hotel in Douglas\, with restaurants and bars within a short walk for our evening meals.\nHotel costs have been held at 2023 prices £45 ppn for Twin Sharing and £70 pn for a Single.  Board will be B&B.  As far as rooms are concerned\, we shall endeavour to meet your room preference\, but availability may mean compromises.  The 2024 Ferry prices are currently unpublished\, but anticipate they will be circa £130 return per bike.  We shall be departing from Liverpool and the return will be to either Liverpool or Heysham. [We will update further once timetables and costs are published]. \nLunches will be at iconic motorcycling locations on the island (Creg ny Baa pub\, Victory Cafe and Peel Castle or a new cafe on the TT circuit if open)\, with evening meals at a couple of well tried restaurants. \nDates are expected to be April 28 – May 2nd\, 2024 with 15 places for riders. \n\nImportant:\nWhilst our Wizzes are open to all and encourage Wizz newbies; we do have some safety criteria that you must meet. \nSo before you come forward and to avoid disappointment please read our Prepare for a Wizz and ensure you are comfortable with the advice and that you do or will meet the criteria. If in any doubt as to the suitability of this trip then please discuss with your Instructor or directly with me \n  \nIf you would like more information or wish to reserve your place and join us then please contact Andrew Jupp – atwjupp@yahoo.com clearly stating your room preference.
URL:https://www.southernriders.org/event/isle-of-man-wizz-2024/
CATEGORIES:Tour,Wizz
ATTACH;FMTTYPE=image/png:https://www.southernriders.org/wp-content/uploads/2021/08/creg-ny-baa.png
ORGANIZER;CN="Andrew Jupp":MAILTO:atwjupp@yahoo.com
END:VEVENT
BEGIN:VEVENT
DTSTART;TZID=UTC:20240505T083000
DTEND;TZID=UTC:20240505T140000
DTSTAMP:20260421T035247
CREATED:20231107T105550Z
LAST-MODIFIED:20250920T104022Z
UID:4597-1714897800-1714917600@www.southernriders.org
SUMMARY:Mickeys Group Sunday Training
DESCRIPTION:Arrive early for coffee and chat – anything from 8:45am \nInstructor allocation for initial assessments and on-going training commences at 9:30am \nNo need to book/register – simply turn up\, all welcome. \nIf the weather is below 3C overnight\, then this session will be automatically cancelled. \n** All members to carry your membership card on club activities. **
URL:https://www.southernriders.org/event/mickeys-group-sunday-training-2/
LOCATION:Mickey’s Diner\, Old Chatham Road\, Aylesford\, Maidstone\, Kent\, ME20 7EZ\, United Kingdom
CATEGORIES:Training
ATTACH;FMTTYPE=image/jpeg:https://www.southernriders.org/wp-content/uploads/2021/08/collection2.jpg
ORGANIZER;CN="Paul Ingleton":MAILTO:p.p.ingleton@btinternet.com
END:VEVENT
BEGIN:VEVENT
DTSTART;TZID=UTC:20240510T100000
DTEND;TZID=UTC:20240510T160000
DTSTAMP:20260421T035247
CREATED:20240418T071421Z
LAST-MODIFIED:20250920T104022Z
UID:4851-1715335200-1715356800@www.southernriders.org
SUMMARY:Friday Fish n' Chip Lunch Ride
DESCRIPTION:On offer for your pleasure courtesy of John Cowburn\, with the promise of a splendid early Spring days ride for this popular Friday jolly through our green and pleasant countryside to the coast to enjoy that Great British favourite lunch.\nIf you would like to join the ride\, then please follow the registration guide below. \n\nRIDE DETAILS \nFriday May 10th\n10:00am meet for 10:30am wheels rolling and returning to Billy’s around 16:00. \nMeeting Point Location:  Billy’s On The Road cafe on the A29 just north of Billingshurst. (Stane St\, Billingshurst RH14 9AE) \nClosest Petrol Station(s):  Five Oaks BP just north of Billy’s or East Billingshurst Business Park\, at the roundabout just south of Billy’s.\nPre-ride coffee/tea ?  If you want a Billy’s breakfast and to be ready for wheels rolling\, get there with enough time to enjoy it – leave enough for your lunch. \nLunch stop:  Ma Kellys chip shop in Emsworth. PO10 7DG. \nRide Description\nProbably 80 miles to Emsworth through the South Downs National Park\, a good mix of some terrific roads and views. \nA return of about the same distance along a mainly different wiggly route arriving at Billys by 4pm or maybe a fraction earlier? \n  \n\n** New and Recent members – remember please you will need to have had your Initial Assessment Ride with an Instructor to attend this and any other club riding activities \n** All members please carry your membership card on this and all club activities \n\nREGISTRATION \nThere are no restrictions on how many can join the ride\, but we ask that you please register by emailing John at jj.cowburn@btinternet.com . \n\nBack-Marker System\nOne of the riders will need to Back-Mark so any volunteer for this please advise the ride leader when you register for the ride.  If you have an orange Hi-Viz please bring it with you\, or one may be provided on the day\, or dependant on the size of the group an alternative marker may be agreed. \nPlease make sure you are fully conversant with the rules of the “BACK-MARKER SYSTEM“.  Following these correctly is vital to the smooth running of the day and reduces the risk of losing someone or everyone. Details of the BM system are on our Southernriders.org  website.   If you’re unsure on the day\, ask one of the attending Ride Leader. They will be more than happy to clarify any issues you have. \nHi-Viz\nIf you wear hi-viz\, please ensure it is not Orange as this is reserved for the ‘back-marker’ during our ride-outs.  We appreciate you may normally wear an orange hi-viz whilst riding. However\, some find it confusing when in the middle of the group to see two or more riders with the orange hi-viz.  So\, in an effort to avoid confusion and markers leaving their post prematurely ONLY the back-marker is to wear orange hi-viz. Thank you \nWeather\nAs with all Group Ride Outs\, please note that if the overnight temperature is forecast to be below 3C degrees at the ride start point\, the ride out will be cancelled automatically.   There will not normally be a second notification if this is the case. \n\n  \nPlease be fully fuelled and ready to go prior to the start of the day.\nHave a safe enjoyable day.\nRide Smart – Ride Safe !
URL:https://www.southernriders.org/event/fish-and-chip-lunch-ride-2/
LOCATION:Billys on the Road\, Billys on the Road Cafe\, A29 Stane Road\, Five Oaks\, Billingshurst\, West Sussex\, RH14 9AE\, United Kingdom
CATEGORIES:Ride Out
ATTACH;FMTTYPE=image/jpeg:https://www.southernriders.org/wp-content/uploads/2021/08/Fish-n-Chips.jpg
ORGANIZER;CN="John Cowburn":MAILTO:jj.cowburn@btinternet.com
END:VEVENT
BEGIN:VEVENT
DTSTART;TZID=UTC:20240512T083000
DTEND;TZID=UTC:20240512T140000
DTSTAMP:20260421T035247
CREATED:20231107T111811Z
LAST-MODIFIED:20250920T104022Z
UID:4620-1715502600-1715522400@www.southernriders.org
SUMMARY:Tulleys Group Training Sunday
DESCRIPTION:Arrive early for coffee and chat – anything from 8:45am \nInstructor allocation for initial assessments and on-going training commences at 9:30am \nNo need to book/register – simply turn up\, all welcome. \nIf the weather is below 3C overnight\, then this session will be automatically cancelled. \n** All members to carry your membership card on club activities. **
URL:https://www.southernriders.org/event/tulleys-group-training-sunday-29/
LOCATION:Tulleys Farm\, Tulleys Escape Rooms\, Turners Hill Rd\, Worth\, Crawley Down\, Crawley\, West Sussex\, RH10 4PE\, United Kingdom
CATEGORIES:Monthly Meet Up,Training
ATTACH;FMTTYPE=image/jpeg:https://www.southernriders.org/wp-content/uploads/2021/08/Collection3.jpg
ORGANIZER;CN="Andy Palmer":MAILTO:aspalm600@gmail.com
END:VEVENT
BEGIN:VEVENT
DTSTART;TZID=UTC:20240522T093000
DTEND;TZID=UTC:20240522T150000
DTSTAMP:20260421T035247
CREATED:20231107T115614Z
LAST-MODIFIED:20250920T104038Z
UID:4637-1716370200-1716390000@www.southernriders.org
SUMMARY:Tulleys Group Training - mid Month Wednesday
DESCRIPTION:Arrive early for coffee and chat – anything from 9:45am \nInstructor allocation for initial assessments and on-going training commences at 10:30am \nNo need to book/register – simply turn up\, all welcome. \nIf the weather is below 3C overnight\, then this session will be automatically cancelled. \n** All members to carry your membership card on club activities. **
URL:https://www.southernriders.org/event/tulleys-group-training-mid-month-wednesday-14/
LOCATION:Tulleys Farm\, Tulleys Escape Rooms\, Turners Hill Rd\, Worth\, Crawley Down\, Crawley\, West Sussex\, RH10 4PE\, United Kingdom
CATEGORIES:Monthly Meet Up,Training
ATTACH;FMTTYPE=image/jpeg:https://www.southernriders.org/wp-content/uploads/2021/10/Tulleys.jpg
ORGANIZER;CN="Jonathan Baker":MAILTO:jaybee1603@me.com
END:VEVENT
BEGIN:VEVENT
DTSTART;TZID=UTC:20240526T090000
DTEND;TZID=UTC:20240526T160000
DTSTAMP:20260421T035247
CREATED:20231107T101324Z
LAST-MODIFIED:20250920T104038Z
UID:4570-1716714000-1716739200@www.southernriders.org
SUMMARY:May EOM Ride Out
DESCRIPTION:This months ride is an adventure with Peter Burfiend and is a summers day ride through Sussex. \n\n\n\nRIDE DETAILS \nSunday 26th May : 9am for a 9:15am pre-ride briefing and 9:30am Start. Return anticipated  4:30pm. \nMeeting Point Location: BP Services Ashington A24 \nClosest Petrol Station:  at meet point \nPre-ride coffee/tea : at meet point \nLunch stop:  Custom Café\, Bexhill-on-Sea A259 TN39 4QR \nRide Description:\nComfortable day’s riding\, about 160 miles round trip through the Sussex countryside. Taking in smaller A and B roads\, some twisties and a few nadgery country lanes to hopefully cater for all tastes.\n \nReturning to Ashington services approx 16:30 \n\n** New and Recent members – remember please you will need to have had your Initial Assessment Ride with an Instructor to attend this and any other club riding activities \n** All members please carry your membership card on this and all club activities \n\nREGISTRATION \nThere are no restrictions on how many can join the ride\, but we ask that you please register by emailing the ride leader.  See details below. \n\nWeather\nAs with all Group Ride Outs\, please note that if the overnight temperature is forecast to be below 3C degrees at the ride start point\, the ride out will be cancelled automatically.   There will not normally be a second notification if this is the case. \nBack-Marker System\nOne of the riders will need to Back-Mark so any volunteer for this please advise the ride leader when you register for the ride.  If you have an orange Hi-Viz please bring it with you\, or one may be provided on the day\, or dependant on the size of the group an alternative marker may be agreed. \nPlease make sure you are fully conversant with the rules of the “BACK-MARKER SYSTEM“.  Following these correctly is vital to the smooth running of the day and reduces the risk of losing someone or everyone. Details of the BM system are on our Southernriders.org  website.   If you’re unsure on the day\, ask one of the attending Ride Leader. They will be more than happy to clarify any issues you have. \nHi-Viz\nIf you wear hi-viz\, please ensure it is not Orange as this is reserved for the ‘back-marker’ during our ride-outs.  We appreciate you may normally wear an orange hi-viz whilst riding. However\, some find it confusing when in the middle of the group to see two or more riders with the orange hi-viz.  So\, in an effort to avoid confusion and markers leaving their post prematurely ONLY the back-marker is to wear orange hi-viz.   Thank you
URL:https://www.southernriders.org/event/may-end-of-month-ride/
LOCATION:Ashington Services\, BP\, London Road\, ASHINGTON\, East Sussex\, RH20 3AT\, United Kingdom
CATEGORIES:Ride Out
ATTACH;FMTTYPE=image/jpeg:https://www.southernriders.org/wp-content/uploads/2021/08/Birling-Gapp-road.jpg
ORGANIZER;CN="Peter Purfiend":MAILTO:peter@burfiend.co.uk
END:VEVENT
END:VCALENDAR