BEGIN:VCALENDAR
VERSION:2.0
PRODID:-//RoADaR Southern Riders - ECPv6.6.1//NONSGML v1.0//EN
CALSCALE:GREGORIAN
METHOD:PUBLISH
X-WR-CALNAME:RoADaR Southern Riders
X-ORIGINAL-URL:https://www.southernriders.org
X-WR-CALDESC:Events for RoADaR Southern Riders
REFRESH-INTERVAL;VALUE=DURATION:PT1H
X-Robots-Tag:noindex
X-PUBLISHED-TTL:PT1H
BEGIN:VTIMEZONE
TZID:UTC
BEGIN:STANDARD
TZOFFSETFROM:+0000
TZOFFSETTO:+0000
TZNAME:UTC
DTSTART:20240101T000000
END:STANDARD
END:VTIMEZONE
BEGIN:VEVENT
DTSTART;TZID=UTC:20240707T083000
DTEND;TZID=UTC:20240707T140000
DTSTAMP:20260421T000310
CREATED:20231107T105923Z
LAST-MODIFIED:20250920T104038Z
UID:4601-1720341000-1720360800@www.southernriders.org
SUMMARY:Mickeys Group Sunday Training
DESCRIPTION:Arrive early for coffee and chat – anything from 8:45am \nInstructor allocation for initial assessments and on-going training commences at 9:30am \nNo need to book/register – simply turn up\, all welcome. \nIf the weather is below 3C overnight\, then this session will be automatically cancelled. \n** All members to carry your membership card on club activities. **
URL:https://www.southernriders.org/event/mickeys-group-sunday-training-4/
LOCATION:Mickey’s Diner\, Old Chatham Road\, Aylesford\, Maidstone\, Kent\, ME20 7EZ\, United Kingdom
CATEGORIES:Training
ATTACH;FMTTYPE=image/jpeg:https://www.southernriders.org/wp-content/uploads/2021/08/collection2.jpg
ORGANIZER;CN="Paul Ingleton":MAILTO:p.p.ingleton@btinternet.com
END:VEVENT
BEGIN:VEVENT
DTSTART;VALUE=DATE:20240708
DTEND;VALUE=DATE:20240712
DTSTAMP:20260421T000310
CREATED:20231221T104227Z
LAST-MODIFIED:20250920T104038Z
UID:4707-1720396800-1720742399@www.southernriders.org
SUMMARY:Wales Tour/Wizz : July 2024
DESCRIPTION:This is a tour/wizz that has become such a group favourite that we currently do it twice a year! Broadly speaking\, for 2024 we will repeat the previous successful format\, travelling to Wales on a Monday and returning on a Thursday\, with two full days exploring some of the very best roads in the UK. We deliberately choose to avoid school holidays and weekends\, so we don’t have to share with too many caravans or other traffic.  Overall we’re talking of around 1200 miles planned and organised into manageable stages. \nFor 2024 we are proposing July 8-11th and September 16-19th. \nThis event is open to all our group members\, and we do encourage Tour/Wizz newbies.  But please be aware that the overall mileage\, duration\, road conditions and weather combine to make this a challenging trip… ie: tiring but fun.. and very rewarding!  Please read the notes below and check with your instructor if you are in doubt as to the suitability of the trip. \nIMPORTANT: We will be based in Mid West Wales\, with the venue and price currently a work in progress.  Further updates once we have finalised details. \nI will once again be aided and abetted by my two Welsh Politburo co-conspirators Roger Manning and Hugh Curran. \nThe price has yet to be confirmed but we are working to keep it similar to past years circa £160 sharing\, to £200 single (dependant on room type) for three night’s bed\, breakfast and evening meal.  Please note that single rooms will likely be in short supply.  We shall be limiting Tour/Wizz numbers to a manageable maximum of 30 riders\, and if previous trips are anything to go by\, demand will greatly outstrip supply\, and spaces may have to be allocated as fairly as we can.  Pillions are very welcome. \nImportant:\nWhilst our Tours/Wizzes are open to all; we do have some safety criteria that you must meet.  So before you come forward and to avoid disappointment please read our Prepare for a Tour/Wizz and ensure you are comfortable with the advice and that you meet the criteria.\nIf in any doubt then discuss with your Instructor\, Roger or myself. \nIf you would like to reserve a place (to be confirmed once final details are known)\, or have questions\, please email me on timbenians@gmail.com.\nIn the first instance\, please let me know the dates you want to book for\, and your sharing/single room preference. \nThanks\, Tim \n 
URL:https://www.southernriders.org/event/wales-tour-wizz-july-2024/
CATEGORIES:Tour,Wizz
ATTACH;FMTTYPE=image/jpeg:https://www.southernriders.org/wp-content/uploads/2023/05/wales-roads-2-e1703155584149.jpg
ORGANIZER;CN="Tim Benians":MAILTO:timbenians@gmail.com
END:VEVENT
BEGIN:VEVENT
DTSTART;TZID=UTC:20240714T083000
DTEND;TZID=UTC:20240714T140000
DTSTAMP:20260421T000310
CREATED:20231107T114608Z
LAST-MODIFIED:20250920T104038Z
UID:4626-1720945800-1720965600@www.southernriders.org
SUMMARY:Tulleys Group Training Sunday
DESCRIPTION:Arrive early for coffee and chat – anything from 8:45am \nInstructor allocation for initial assessments and on-going training commences at 9:30am \nNo need to book/register – simply turn up\, all welcome. \nIf the weather is below 3C overnight\, then this session will be automatically cancelled. \n** All members to carry your membership card on club activities. **
URL:https://www.southernriders.org/event/tulleys-group-training-sunday-32/
LOCATION:Tulleys Farm\, Tulleys Escape Rooms\, Turners Hill Rd\, Worth\, Crawley Down\, Crawley\, West Sussex\, RH10 4PE\, United Kingdom
CATEGORIES:Monthly Meet Up,Training
ATTACH;FMTTYPE=image/jpeg:https://www.southernriders.org/wp-content/uploads/2021/08/Collection3.jpg
ORGANIZER;CN="Andy Palmer":MAILTO:aspalm600@gmail.com
END:VEVENT
BEGIN:VEVENT
DTSTART;TZID=UTC:20240724T093000
DTEND;TZID=UTC:20240724T150000
DTSTAMP:20260421T000310
CREATED:20231107T120133Z
LAST-MODIFIED:20250920T104038Z
UID:4641-1721813400-1721833200@www.southernriders.org
SUMMARY:Tulleys Group Training - mid month Wednesday
DESCRIPTION:Arrive early for coffee and chat – anything from 9:45am \nInstructor allocation for initial assessments and on-going training commences at 10:30am \nNo need to book/register – simply turn up\, all welcome. \nIf the weather is below 3C overnight\, then this session will be automatically cancelled. \n** All members to carry your membership card on club activities. **
URL:https://www.southernriders.org/event/tulleys-group-training-mid-month-wednesday-16/
LOCATION:Tulleys Farm\, Tulleys Escape Rooms\, Turners Hill Rd\, Worth\, Crawley Down\, Crawley\, West Sussex\, RH10 4PE\, United Kingdom
CATEGORIES:Monthly Meet Up,Training
ATTACH;FMTTYPE=image/jpeg:https://www.southernriders.org/wp-content/uploads/2021/10/Tulleys.jpg
ORGANIZER;CN="Jonathan Baker":MAILTO:jaybee1603@me.com
END:VEVENT
BEGIN:VEVENT
DTSTART;TZID=UTC:20240728T080000
DTEND;TZID=UTC:20240728T173000
DTSTAMP:20260421T000310
CREATED:20231107T102702Z
LAST-MODIFIED:20250920T104038Z
UID:4582-1722153600-1722187800@www.southernriders.org
SUMMARY:July EOM Ride Out
DESCRIPTION:A longish EOM ride this month of around 220 miles with our ACI for Sussex – Andy Palmer.  To quote Andy – “I don’t feel I’ve had a ride unless I’ve done at least 150 miles!” \n\n\n\nRIDE DETAILS \nMeeting point: at Costa/Shell Billingshurst on the A29\, 07:45 ish for an 08:15 briefing and then departure. Shell petrol adjacent.  Costa Coffee\, Stane St\, Billingshurst RH14 9LY \nRoute detail:\nA flowing ride along the A272 to the west of Petersfield where we will leave the A272 and take in some unclassified roads (away from the average speed cameras). Arriving on the outskirts of Winchester for our morning tea/coffee stop at Cobbs hopefully just as they open at 10:00.  Cobbs of Winchester\, Springvale Rd\, Headbourne Worthy\, Winchester SO23 7LD \nThen it is on to the North Wessex Downs and some lovely brisk and flowing roads towards Marlborough (fuel stop here) and onto our lunch stop for around 12:30. \nLunch stop: still to be confirmed. \nReturn route:\nLeaving lunch around 2pm\, we will head back on another lovely route via HIghclere and Kingsclere and on to a quick splash and dash at:  Loomies\, Alton Road GU32 1JX for around 4pm\, then heading back to the start for 5:30-6pm \n  \n\n** New and Recent members – remember please you will need to have had your Initial Assessment Ride with an Instructor to attend this and any other club riding activities \n** All members please carry your membership card on this and all club activities \n\nREGISTRATION \nThere are no restrictions on how many can join the ride\, but we ask that you please register by emailing the ride leader.  See details below. \n\nWeather\nAs with all Group Ride Outs\, please note that if the overnight temperature is forecast to be below 3C degrees at the ride start point\, the ride out will be cancelled automatically.   There will not normally be a second notification if this is the case. \nBack-Marker System\nOne of the riders will need to Back-Mark so any volunteer for this please advise the ride leader when you register for the ride.  If you have an orange Hi-Viz please bring it with you\, or one may be provided on the day\, or dependant on the size of the group an alternative marker may be agreed. \nPlease make sure you are fully conversant with the rules of the “BACK-MARKER SYSTEM“.  Following these correctly is vital to the smooth running of the day and reduces the risk of losing someone or everyone. Details of the BM system are on our Southernriders.org  website.   If you’re unsure on the day\, ask one of the attending Ride Leader. They will be more than happy to clarify any issues you have. \nHi-Viz\nIf you wear hi-viz\, please ensure it is not Orange as this is reserved for the ‘back-marker’ during our ride-outs.  We appreciate you may normally wear an orange hi-viz whilst riding. However\, some find it confusing when in the middle of the group to see two or more riders with the orange hi-viz.  So\, in an effort to avoid confusion and markers leaving their post prematurely ONLY the back-marker is to wear orange hi-viz.   Thank you
URL:https://www.southernriders.org/event/july-eom-ride-out-2/
LOCATION:Costa\, Billingshurst\, Costa Coffee\, A29 Stane Street\, Billingshurst\, RH14 9LY\, Billingshurst\, West Sussex\, RH14 9LY\, United Kingdom
CATEGORIES:Ride Out
ATTACH;FMTTYPE=image/png:https://www.southernriders.org/wp-content/uploads/2021/08/Ducati-logo-e1651683048729.png
ORGANIZER;CN="Andy Palmer":MAILTO:aspalm600@gmail.com
END:VEVENT
END:VCALENDAR