BEGIN:VCALENDAR
VERSION:2.0
PRODID:-//RoADaR Southern Riders - ECPv6.6.1//NONSGML v1.0//EN
CALSCALE:GREGORIAN
METHOD:PUBLISH
X-ORIGINAL-URL:https://www.southernriders.org
X-WR-CALDESC:Events for RoADaR Southern Riders
REFRESH-INTERVAL;VALUE=DURATION:PT1H
X-Robots-Tag:noindex
X-PUBLISHED-TTL:PT1H
BEGIN:VTIMEZONE
TZID:UTC
BEGIN:STANDARD
TZOFFSETFROM:+0000
TZOFFSETTO:+0000
TZNAME:UTC
DTSTART:20240101T000000
END:STANDARD
END:VTIMEZONE
BEGIN:VEVENT
DTSTART;TZID=UTC:20241006T083000
DTEND;TZID=UTC:20241006T140000
DTSTAMP:20260420T134335
CREATED:20231107T110323Z
LAST-MODIFIED:20250920T104058Z
UID:4607-1728203400-1728223200@www.southernriders.org
SUMMARY:Mickeys Group Sunday Training
DESCRIPTION:Arrive early for coffee and chat – anything from 8:45am \nInstructor allocation for initial assessments and on-going training commences at 9:30am \nNo need to book/register – simply turn up\, all welcome. \nIf the weather is 3C or below overnight\, then this session will be automatically cancelled. \nWe only use the BBC Weather for our information.  Click below to check for Mickeys\n  \n** All members to carry your membership card on club activities. **
URL:https://www.southernriders.org/event/mickeys-group-sunday-training-7/
LOCATION:Mickey’s Diner\, Old Chatham Road\, Aylesford\, Maidstone\, Kent\, ME20 7EZ\, United Kingdom
CATEGORIES:Monthly Meet Up,Training
ATTACH;FMTTYPE=image/jpeg:https://www.southernriders.org/wp-content/uploads/2021/08/collection2.jpg
ORGANIZER;CN="Paul Ingleton":MAILTO:p.p.ingleton@btinternet.com
END:VEVENT
BEGIN:VEVENT
DTSTART;TZID=UTC:20241013T083000
DTEND;TZID=UTC:20241013T140000
DTSTAMP:20260420T134336
CREATED:20231107T115104Z
LAST-MODIFIED:20250920T104058Z
UID:4631-1728808200-1728828000@www.southernriders.org
SUMMARY:Tulleys Group Training Sunday
DESCRIPTION:Arrive early for coffee and chat – anything from 8:45am \nInstructor allocation for initial assessments and on-going training commences at 9:30am \nNo need to book/register – simply turn up\, all welcome. \nIf the weather is 3C or below overnight\, then this session will be automatically cancelled. \nWe only use the BBC Weather for our information.  Click below to check for Turners Hill.\n  \n** All members to carry your membership card on club activities. **
URL:https://www.southernriders.org/event/tulleys-group-training-sunday-34/
LOCATION:Tulleys Farm\, Tulleys Escape Rooms\, Turners Hill Rd\, Worth\, Crawley Down\, Crawley\, West Sussex\, RH10 4PE\, United Kingdom
CATEGORIES:Monthly Meet Up,Training
ATTACH;FMTTYPE=image/jpeg:https://www.southernriders.org/wp-content/uploads/2021/08/Collection3.jpg
ORGANIZER;CN="Andy Palmer":MAILTO:aspalm600@gmail.com
END:VEVENT
BEGIN:VEVENT
DTSTART;TZID=UTC:20241019T093000
DTEND;TZID=UTC:20241019T130000
DTSTAMP:20260420T134336
CREATED:20231123T133948Z
LAST-MODIFIED:20250920T104058Z
UID:4662-1729330200-1729342800@www.southernriders.org
SUMMARY:AGM 2024
DESCRIPTION:SMART’s Annual General Meeting \nVenue: The Haven Centre  Saturday 19th October\, 9:45 for 10am to approx 1pm\nTea and Coffee on arrival. \nREGISTER Attendance:  Please email committee@southernriders.org \nPlease join us to understand more about how Your club is organised and run.\nAll associates are welcome\, however whilst we now no longer have any restrictions on numbers attending\, your registration is required so we can ensure we have the correct catering. \nThe AGM provides You the opportunity to understand what has occurred during the past year as well as to air ideas on how the club can be improved and to participate in the Election of club officers which is a key part of the agenda.  For point of note\, our constitution states that committee members (except the GCI) hold office for one year and are re-elected or replaced in the AGM. \nIf you are interested in taking up one of these positions\, then please email the position of interest to secretary@southernriders.org where you will be added to the list of candidates standing and we ask that you also please attend the AGM.  All candidate nominees must be received by the 30th September. \n  \nAgenda \n\nApologies for Absence\nReport by the Chairman\nReport by the Treasurer and presentation of the accounts\nReport by the Membership Secretary\nReport by the Group Chief Instructor\nElection of Officers for 2024\nNominees for Group Life Membership\nQuestions and comments from the members attending\n\n  \n\n 
URL:https://www.southernriders.org/event/agm-2024/
LOCATION:The Haven Centre\, Hophurst Lane\, Crawley Down\, West Sussex\, RH10 4LJ\, United Kingdom
CATEGORIES:AGM
ATTACH;FMTTYPE=image/png:https://www.southernriders.org/wp-content/uploads/2022/06/Sticker-V.png
ORGANIZER;CN="Group Secretary":MAILTO:secretary@southernriders.org
END:VEVENT
BEGIN:VEVENT
DTSTART;TZID=UTC:20241023T093000
DTEND;TZID=UTC:20241023T150000
DTSTAMP:20260420T134336
CREATED:20231107T120825Z
LAST-MODIFIED:20250920T104058Z
UID:4647-1729675800-1729695600@www.southernriders.org
SUMMARY:Tulleys Group Training - mid month Wednesday
DESCRIPTION:Arrive early for coffee and chat – anything from 9:45am \nInstructor allocation for initial assessments and on-going training commences at 10:30am \nNo need to book/register – simply turn up\, all welcome. \nIf the weather is 3C or below overnight\, then this session will be automatically cancelled. \nWe only use the BBC Weather for our information.  Click below to check for Turners Hill.\n  \n** All members to carry your membership card on club activities. **
URL:https://www.southernriders.org/event/tulleys-group-training-mid-month-wednesday-19/
LOCATION:Tulleys Farm\, Tulleys Escape Rooms\, Turners Hill Rd\, Worth\, Crawley Down\, Crawley\, West Sussex\, RH10 4PE\, United Kingdom
CATEGORIES:Monthly Meet Up,Training
ATTACH;FMTTYPE=image/jpeg:https://www.southernriders.org/wp-content/uploads/2021/10/Tulleys.jpg
ORGANIZER;CN="Jonathan Baker":MAILTO:jaybee1603@me.com
END:VEVENT
BEGIN:VEVENT
DTSTART;TZID=UTC:20241027T090000
DTEND;TZID=UTC:20241027T220000
DTSTAMP:20260420T134336
CREATED:20231107T103010Z
LAST-MODIFIED:20250920T104058Z
UID:4588-1730019600-1730066400@www.southernriders.org
SUMMARY:October EOM Ride Out
DESCRIPTION:On offer for your pleasure courtesy of our very own Group Chief Instructor\, Steve Tovee\, a scenic ride up towards Oxford. \n\n\n\nRIDE DETAILS\nSunday October 27th from 08:30\, for a pre-ride brief at 9:00 and Wheels-up at 09:15 \nMeeting Point Location:  Costa Coffee\, Stane St\, Billingshurst\, RH14 9LY \nClosest Petrol Station:  At start point \nPre-ride coffee/tea:   Costa Coffee\, Stane St\, Billingshurst\, RH14 9LY \nLunch stop: H Cafe – Deacon’s Garage\, Oxford Rd\, Dorchester\, Wallingford OX10 7LY \nRide Description \nWe will be riding from Billingshurst to the H Cafe in Dorchester. Taking in the scenic route. It’s approx 2 hours each way and 70-80miles. This will be a shorter rise as it is the end of October\, with shorter days.\nA morning tea stop may be added.  There is also fuel at the lunch stop. \nReturn Route: A different route back to the same point as the start\, by around 3:30/4:00pm. \n\n** New and Recent members – remember please you will need to have had your Initial Assessment Ride with an Instructor to attend this and any other club riding activities \n** All members please carry your membership card on this and all club activities \n\nREGISTRATION \nThere are no restrictions on how many can join the ride\, but we ask that you please register by emailing the ride leader.  See details below. \n\nWeather\nAs with all Group Ride Outs\, please note that if the overnight temperature is forecast to be 3C degrees or below at the ride start meeting place\, the ride out will be cancelled automatically.   There will not normally be a second notification if this is the case.  We only use the BBC Weather for our information.\n  \nBack-Marker System\nOne of the riders will need to Back-Mark so any volunteer for this please advise the ride leader when you register for the ride.  If you have an orange Hi-Viz please bring it with you\, or one may be provided on the day\, or dependant on the size of the group an alternative marker may be agreed. \nPlease make sure you are fully conversant with the rules of the “BACK-MARKER SYSTEM“.  Following these correctly is vital to the smooth running of the day and reduces the risk of losing someone or everyone. Details of the BM system are on our Southernriders.org  website.   If you’re unsure on the day\, ask one of the attending Ride Leader. They will be more than happy to clarify any issues you have. \nHi-Viz\nIf you wear hi-viz\, please ensure it is not Orange as this is reserved for the ‘back-marker’ during our ride-outs.  We appreciate you may normally wear an orange hi-viz whilst riding. However\, some find it confusing when in the middle of the group to see two or more riders with the orange hi-viz.  So\, in an effort to avoid confusion and markers leaving their post prematurely ONLY the back-marker is to wear orange hi-viz.   Thank you
URL:https://www.southernriders.org/event/october-eom-ride-out-3/
LOCATION:Costa\, Billingshurst\, Costa Coffee\, A29 Stane Street\, Billingshurst\, RH14 9LY\, Billingshurst\, West Sussex\, RH14 9LY\, United Kingdom
CATEGORIES:Ride Out
ATTACH;FMTTYPE=image/png:https://www.southernriders.org/wp-content/uploads/2023/11/Andy-Reohorn-EOM-e1708428422432.png
END:VEVENT
END:VCALENDAR