BEGIN:VCALENDAR
VERSION:2.0
PRODID:-//RoADaR Southern Riders - ECPv6.6.1//NONSGML v1.0//EN
CALSCALE:GREGORIAN
METHOD:PUBLISH
X-WR-CALNAME:RoADaR Southern Riders
X-ORIGINAL-URL:https://www.southernriders.org
X-WR-CALDESC:Events for RoADaR Southern Riders
REFRESH-INTERVAL;VALUE=DURATION:PT1H
X-Robots-Tag:noindex
X-PUBLISHED-TTL:PT1H
BEGIN:VTIMEZONE
TZID:UTC
BEGIN:STANDARD
TZOFFSETFROM:+0000
TZOFFSETTO:+0000
TZNAME:UTC
DTSTART:20250101T000000
END:STANDARD
END:VTIMEZONE
BEGIN:VEVENT
DTSTART;TZID=UTC:20250302T083000
DTEND;TZID=UTC:20250302T140000
DTSTAMP:20260420T043947
CREATED:20241014T094115Z
LAST-MODIFIED:20250920T104112Z
UID:5012-1740904200-1740924000@www.southernriders.org
SUMMARY:Mickeys Group Sunday Training
DESCRIPTION:Arrive early for coffee and chat – anything from 8:45am \nInstructor allocation for initial assessments and on-going training commences at 9:30am \nNo need to book/register – simply turn up\, all welcome. \nIf the weather is 3C or below overnight\, then this session will be automatically cancelled. \nWe only use the BBC Weather for our information.  Click below to check for Mickeys\n  \n** All members to carry your membership card on club activities. **
URL:https://www.southernriders.org/event/mickeys-group-sunday-training-11/
LOCATION:Mickey’s Diner\, Old Chatham Road\, Aylesford\, Maidstone\, Kent\, ME20 7EZ\, United Kingdom
CATEGORIES:Monthly Meet Up,Training
ATTACH;FMTTYPE=image/jpeg:https://www.southernriders.org/wp-content/uploads/2021/08/collection2.jpg
ORGANIZER;CN="Paul Ingleton":MAILTO:p.p.ingleton@btinternet.com
END:VEVENT
BEGIN:VEVENT
DTSTART;TZID=UTC:20250309T083000
DTEND;TZID=UTC:20250309T140000
DTSTAMP:20260420T043947
CREATED:20241014T095808Z
LAST-MODIFIED:20250920T104112Z
UID:5032-1741509000-1741528800@www.southernriders.org
SUMMARY:Tulleys Training Sunday
DESCRIPTION:Arrive early for coffee and chat – anything from 8:45am \nInstructor allocation for initial assessments and on-going training commences at 9:30am \nNo need to book/register – simply turn up\, all welcome. \nIf the weather is 3C or below overnight\, then this session will be automatically cancelled. \nWe only use the BBC Weather for our information.  Click below to check for Turners Hill.\n  \n** All members to carry your membership card on club activities. **
URL:https://www.southernriders.org/event/tulleys-training-sunday/
LOCATION:Tulleys Farm\, Tulleys Escape Rooms\, Turners Hill Rd\, Worth\, Crawley Down\, Crawley\, West Sussex\, RH10 4PE\, United Kingdom
CATEGORIES:Monthly Meet Up,Training
ATTACH;FMTTYPE=image/jpeg:https://www.southernriders.org/wp-content/uploads/2021/08/Collection3.jpg
ORGANIZER;CN="Andy Palmer":MAILTO:aspalm600@gmail.com
END:VEVENT
BEGIN:VEVENT
DTSTART;TZID=UTC:20250316T090000
DTEND;TZID=UTC:20250316T160000
DTSTAMP:20260420T043947
CREATED:20211101T092738Z
LAST-MODIFIED:20250920T104112Z
UID:3224-1742115600-1742140800@www.southernriders.org
SUMMARY:Ride School - Part 1\, 2025
DESCRIPTION:Ride School is open to all members at zero cost.  This event is held over two Sundays in the Spring and is intended to reinforce ‘The System’ and Motorcycle Roadcraft whilst hopefully being insightful and informative in an informal jovial couple of days. \nThis is the first session of two.  Details for Part 2 can be viewed here  \nWelcome from 9am for a prompt start at 9:30am \nAgenda \n\nThe System\nBends and Positioning\nMotorways\n\n \nEver had to react to a situation suddenly? You’ll learn the details of the renowned Police System to ensure that you always have the breathing space to tackle the hazards every biker faces. The System was developed to reduce Police rider accidents in pursuit riding situations; before the System\, the accident rate of police drivers and riders was one every 7\,000 miles. Since the introduction of “the System” that dropped to one every 70\,000 miles. \nBends and Positioning – applying the system of motorcycle control. \nHow safely are you keeping away from likely hazards? How far ahead can you spot what’s going on? Positioning directly affects both. In week 1\, you’ll learn how to use your positioning to be more stable when cornering\, ride safer and see further ahead. You will also learn about ‘observation links’ and other tricks of the trade. How stable is your bike when cornering? \n\nWe are also pleased to confirm that HELITE will be attending in the afternoon from circa 2:30pm to answer any queries and assist you in fitting prior to any order. \nLight Lunch and Refreshments are provided \n\nDon’t forget to attend Ride School Part 2 next month \n\n\n\n\n\n\n\n\nLocation\n9.00am – 15.30pm\nThe Haven Centre\nCrawley Down\nWest Sussex RH10 4LJ \n** Please book your place clearly stating Session 1\, 2 or both by registering with the membership secretary by emailing membership@southernriders.org \n\n\n\n\n\n\n\n\n\n\n** All members to carry your membership card on club activities. **
URL:https://www.southernriders.org/event/ride-school-part-1-2025/
LOCATION:The Haven Centre\, Hophurst Lane\, Crawley Down\, West Sussex\, RH10 4LJ\, United Kingdom
CATEGORIES:Ride School
ATTACH;FMTTYPE=image/png:https://www.southernriders.org/wp-content/uploads/2021/08/motorcycle_roadcraft_front_cover.350x0-is.png
END:VEVENT
BEGIN:VEVENT
DTSTART;TZID=UTC:20250319T093000
DTEND;TZID=UTC:20250319T153000
DTSTAMP:20260420T043947
CREATED:20241014T135400Z
LAST-MODIFIED:20250920T104112Z
UID:5064-1742376600-1742398200@www.southernriders.org
SUMMARY:Tulleys Training - mid month Wednesday
DESCRIPTION:Arrive early for coffee and chat – anything from 9:45am \nInstructor allocation for initial assessments and on-going training commences at 10:30am \nNo need to book/register – simply turn up\, all welcome. \nIf the weather is 3C or below overnight\, then this session will be automatically cancelled. \nWe only use the BBC Weather for our information.  Click below to check for Turners Hill.\n  \n** All members to carry your membership card on club activities. **
URL:https://www.southernriders.org/event/tulleys-training-mid-month-wednesday-2/
LOCATION:Tulleys Farm\, Tulleys Escape Rooms\, Turners Hill Rd\, Worth\, Crawley Down\, Crawley\, West Sussex\, RH10 4PE\, United Kingdom
CATEGORIES:Monthly Meet Up,Training
ATTACH;FMTTYPE=image/jpeg:https://www.southernriders.org/wp-content/uploads/2021/10/Tulleys.jpg
ORGANIZER;CN="Andy Palmer":MAILTO:aspalm600@gmail.com
END:VEVENT
BEGIN:VEVENT
DTSTART;TZID=UTC:20250323T090000
DTEND;TZID=UTC:20250323T153000
DTSTAMP:20260420T043947
CREATED:20211105T181850Z
LAST-MODIFIED:20250920T104112Z
UID:3239-1742720400-1742743800@www.southernriders.org
SUMMARY:Ride School - Part 2\, 2025
DESCRIPTION:  \nRide School is open to all members at zero cost.  This event is held over two Sundays in the Spring and is intended to reinforce ‘The System’ and Motorcycle Roadcraft whilst hopefully being insightful and informative in an informal jovial couple of days. \nThis is the second session of two.  Details for Part 1 can be viewed here  \nWelcome from 9am for a prompt 9:30am start. \n \nAgenda \n\nOvertaking and Filtering\nBack-Marker system and Group riding\nOpen Q&A Session – Ask the Experts\n\nHow expertly do you overtake? Ever had a close shave or felt rushed? Do you miss safe overtaking opportunities?\nIn this week 2\, you’ll learn the overtaking techniques used by expert road riders to boost safety and skill. You will also learn our top tips for safe and sound filtering. This is where you’ll learn how to apply the System for finely tuned observation\, precise positioning and silky smooth progress to bring your confidence to new heights.  We will also be showing the Back-Marker system SMART uses when on group rides and covering general group riding disciplines. \nLight Lunch and Refreshments are provided \n\n\nLocation\n9am – 14.30pm \n\n\n\n\n\n\n\n\nThe Haven Centre\nCrawley Down\nWest Sussex RH10 4LJ \n** Please book your place clearly stating Session 1\, 2 or both by registering with the membership secretary by emailing membership@southernriders.org \n\n\n\n\n\n\n\n\n\n\n** All members to carry your membership card on club activities. **
URL:https://www.southernriders.org/event/ride-school-part-2-2025/
LOCATION:The Haven Centre\, Hophurst Lane\, Crawley Down\, West Sussex\, RH10 4LJ\, United Kingdom
CATEGORIES:Ride School
ATTACH;FMTTYPE=image/jpeg:https://www.southernriders.org/wp-content/uploads/2021/11/RideSchool.jpg
END:VEVENT
BEGIN:VEVENT
DTSTART;TZID=UTC:20250330T090000
DTEND;TZID=UTC:20250330T160000
DTSTAMP:20260420T043947
CREATED:20241003T145956Z
LAST-MODIFIED:20250920T104112Z
UID:4954-1743325200-1743350400@www.southernriders.org
SUMMARY:March EOM Ride Out
DESCRIPTION:Currently a work in progress\, details to follow. \n\n\n\nRIDE DETAILS \nSunday March 30th with a pre-ride briefing at 09:15\, and wheels up at 09:30.  Arrive earlier if you want a coffee/tea ahead of time. \nMeeting Point Location:  McDonalds\, 165 London Rd\, East Grinstead RH19 1ET.\nAt the start there is plenty of parking at the rear of site – please park as a group to minimise disruption to other users. \nClosest Petrol Station:  Esso within 500m in East Grinstead one way system or Jet 100m adjacent. \nPre-ride coffee/tea:  McDonalds \nLunch stop: Wings Cafe at Headcorn Aerodrome \nRide Description \nA spooktacular route passing through Pluckley\, England’s most haunted village using some great roads across West Sussex\, Kent and East Sussex\, for a total of approx 130 miles. \nOutward Route:\nHeading towards Bayham Abbey\, Goudhurst\, across to Charing and then circling back towards Headcorn for a lunch stop \nReturn Route:\nFrom Headcorn towards Bodium Castle\, Battle and ending at Cross in Hand. \nRide end will be at the Shell Petrol Station at Cross in Hand\, near Heathfield\, allowing time for participants to head home whilst still light. \n  \n\n** New and Recent members – remember please you will need to have had your Initial Assessment Ride with an Instructor to attend this and any other club riding activities \n** All members please carry your membership card on this and all club activities \n\nREGISTRATION \nThere are no restrictions on how many can join the ride\, but we ask that you please register by emailing the ride leader.  See details below. \n\nWeather\nAs with all Group Ride Outs\, please note that if the overnight temperature is forecast to be 3C degrees or below at the ride start meeting place\, the ride out will be cancelled automatically.   There will not normally be a second notification if this is the case.  We only use the BBC Weather for our information.\n  \nBack-Marker System\nOne of the riders will need to Back-Mark so any volunteer for this please advise the ride leader when you register for the ride.  If you have an orange Hi-Viz please bring it with you\, or one may be provided on the day\, or dependant on the size of the group an alternative marker may be agreed. \nPlease make sure you are fully conversant with the rules of the “BACK-MARKER SYSTEM“.  Following these correctly is vital to the smooth running of the day and reduces the risk of losing someone or everyone. Details of the BM system are on our Southernriders.org  website.   If you’re unsure on the day\, ask one of the attending Ride Leader. They will be more than happy to clarify any issues you have. \nHi-Viz\nIf you wear hi-viz\, please ensure it is not Orange as this is reserved for the ‘back-marker’ during our ride-outs.  We appreciate you may normally wear an orange hi-viz whilst riding. However\, some find it confusing when in the middle of the group to see two or more riders with the orange hi-viz.  So\, in an effort to avoid confusion and markers leaving their post prematurely ONLY the back-marker is to wear orange hi-viz.   Thank you
URL:https://www.southernriders.org/event/march-eom-ride-out-3/
LOCATION:McD’s – East Grinstead\, 165 LONDON ROAD\, East Grinstead\, RH19 1ET\, United Kingdom
CATEGORIES:Ride Out
ATTACH;FMTTYPE=image/jpeg:https://www.southernriders.org/wp-content/uploads/2024/10/IMG_5430.jpeg
ORGANIZER;CN="Darren Stewart":MAILTO:darrenistewart@hotmail.com
END:VEVENT
END:VCALENDAR