BEGIN:VCALENDAR
VERSION:2.0
PRODID:-//RoADaR Southern Riders - ECPv6.6.1//NONSGML v1.0//EN
CALSCALE:GREGORIAN
METHOD:PUBLISH
X-ORIGINAL-URL:https://www.southernriders.org
X-WR-CALDESC:Events for RoADaR Southern Riders
REFRESH-INTERVAL;VALUE=DURATION:PT1H
X-Robots-Tag:noindex
X-PUBLISHED-TTL:PT1H
BEGIN:VTIMEZONE
TZID:UTC
BEGIN:STANDARD
TZOFFSETFROM:+0000
TZOFFSETTO:+0000
TZNAME:UTC
DTSTART:20250101T000000
END:STANDARD
END:VTIMEZONE
BEGIN:VEVENT
DTSTART;TZID=UTC:20250706T083000
DTEND;TZID=UTC:20250706T143000
DTSTAMP:20260419T212257
CREATED:20241014T094617Z
LAST-MODIFIED:20250920T104127Z
UID:5020-1751790600-1751812200@www.southernriders.org
SUMMARY:Mickeys Group Sunday Training
DESCRIPTION:Arrive early for coffee and chat – anything from 8:45am \nInstructor allocation for initial assessments and on-going training commences at 9:30am \nNo need to book/register – simply turn up\, all welcome. \nIf the weather is 3C or below overnight\, then this session will be automatically cancelled. \nWe only use the BBC Weather for our information.  Click below to check for Mickeys\n  \n** All members to carry your membership card on club activities. **
URL:https://www.southernriders.org/event/mickeys-group-sunday-training-15/
LOCATION:Mickey’s Diner\, Old Chatham Road\, Aylesford\, Maidstone\, Kent\, ME20 7EZ\, United Kingdom
CATEGORIES:Monthly Meet Up,Training
ATTACH;FMTTYPE=image/jpeg:https://www.southernriders.org/wp-content/uploads/2021/08/collection2.jpg
ORGANIZER;CN="Paul Ingleton":MAILTO:p.p.ingleton@btinternet.com
END:VEVENT
BEGIN:VEVENT
DTSTART;VALUE=DATE:20250707
DTEND;VALUE=DATE:20250711
DTSTAMP:20260419T212257
CREATED:20241204T185415Z
LAST-MODIFIED:20250920T104127Z
UID:5110-1751846400-1752191999@www.southernriders.org
SUMMARY:Wales Tour/Wizz - July 2025
DESCRIPTION:This is a tour/wizz that has become such a group favourite that we currently do it twice a year! Broadly speaking\, for 2025 we will repeat the previous successful format\, travelling to Wales on a Monday and returning on a Thursday\, with two full days exploring some of the very best roads in the UK. We deliberately choose to avoid school holidays and weekends\, so we don’t have to share with too many caravans or other traffic.  Overall we’re talking of around 1200 miles planned and organised into manageable stages. \nFor 2025 we are proposing for July 7th – 10th and September 8th – 11th. \nThis event is open to all our group members\, and we do encourage Tour/Wizz newbies.  But please be aware that the overall mileage\, duration\, road conditions and weather combine to make this a challenging trip… ie: tiring but fun.. and very rewarding!  Please read the notes below and check with your instructor if you are in doubt as to the suitability of the trip. \nI will once again be aided and abetted by my two Welsh Politburo co-conspirators Roger Manning and Hugh Curran. \nNOTE: We will be based in Mid West Wales\, with the venue and price currently a work in progress.  Further updates once we have finalised details. \nThe price has yet to be confirmed but we are working on £195 sharing and £275 single rooms for the three nights half board (ie: bed\, breakfast and evening meal).  Please note that single rooms will likely be in short supply.  We shall be limiting Tour/Wizz numbers to a manageable maximum of 30 riders\, and if previous trips are anything to go by\, demand will greatly outstrip supply\, and spaces may have to be allocated as fairly as we can.  Pillions are very welcome. \n*IMPORTANT* \nWhilst our Tours / Wizzes are open to all; we do have some safety criteria that you must meet.  So before you come forward and to avoid disappointment please read our Preparing for a Tour and ensure you are comfortable with the advice and that you do or will meet the criteria.\nIf in any doubt then discuss with your Instructor\, Roger or myself. \nIf you would like to reserve a place (to be confirmed once final details are known)\, or have questions\, please email me on timbenians@gmail.com.\nIn the first instance\, please let me know the dates you want to book for\, and your sharing/single room preference. \nThanks\, Tim \n 
URL:https://www.southernriders.org/event/wales-tour-wizz-july-2025/
CATEGORIES:Tour,Wizz
ATTACH;FMTTYPE=image/jpeg:https://www.southernriders.org/wp-content/uploads/2022/01/Wales-Wizz-e1703155655179.jpg
ORGANIZER;CN="Tim Benians":MAILTO:timbenians@gmail.com
END:VEVENT
BEGIN:VEVENT
DTSTART;TZID=UTC:20250713T083000
DTEND;TZID=UTC:20250713T140000
DTSTAMP:20260419T212257
CREATED:20241014T132823Z
LAST-MODIFIED:20250920T104127Z
UID:5042-1752395400-1752415200@www.southernriders.org
SUMMARY:Tulleys Training Sunday
DESCRIPTION:Arrive early for coffee and chat – anything from 8:45am \nInstructor allocation for initial assessments and on-going training commences at 9:30am \nNo need to book/register – simply turn up\, all welcome. \nIf the weather is 3C or below overnight\, then this session will be automatically cancelled. \nWe only use the BBC Weather for our information.  Click below to check for Turners Hill.\n  \n** All members to carry your membership card on club activities. **
URL:https://www.southernriders.org/event/tulleys-training-sunday-5/
LOCATION:Tulleys Farm\, Tulleys Escape Rooms\, Turners Hill Rd\, Worth\, Crawley Down\, Crawley\, West Sussex\, RH10 4PE\, United Kingdom
CATEGORIES:Monthly Meet Up,Training
ATTACH;FMTTYPE=image/jpeg:https://www.southernriders.org/wp-content/uploads/2021/08/Collection3.jpg
ORGANIZER;CN="Andy Palmer":MAILTO:aspalm600@gmail.com
END:VEVENT
BEGIN:VEVENT
DTSTART;TZID=UTC:20250723T093000
DTEND;TZID=UTC:20250723T153000
DTSTAMP:20260419T212257
CREATED:20241014T135848Z
LAST-MODIFIED:20250920T104127Z
UID:5072-1753263000-1753284600@www.southernriders.org
SUMMARY:Tulleys Training - mid month Wednesday
DESCRIPTION:Arrive early for coffee and chat – anything from 9:45am \nInstructor allocation for initial assessments and on-going training commences at 10:30am \nNo need to book/register – simply turn up\, all welcome. \nIf the weather is 3C or below overnight\, then this session will be automatically cancelled. \nWe only use the BBC Weather for our information.  Click below to check for Turners Hill.\n  \n** All members to carry your membership card on club activities. **
URL:https://www.southernriders.org/event/tulleys-training-mid-month-wednesday-6/
LOCATION:Tulleys Farm\, Tulleys Escape Rooms\, Turners Hill Rd\, Worth\, Crawley Down\, Crawley\, West Sussex\, RH10 4PE\, United Kingdom
CATEGORIES:Monthly Meet Up,Training
ATTACH;FMTTYPE=image/jpeg:https://www.southernriders.org/wp-content/uploads/2021/10/Tulleys.jpg
ORGANIZER;CN="Andy Palmer":MAILTO:aspalm600@gmail.com
END:VEVENT
BEGIN:VEVENT
DTSTART;TZID=UTC:20250727T083000
DTEND;TZID=UTC:20250727T170000
DTSTAMP:20260419T212257
CREATED:20241003T150518Z
LAST-MODIFIED:20250920T104127Z
UID:4962-1753605000-1753635600@www.southernriders.org
SUMMARY:JULY EOM Ride Out
DESCRIPTION:On offer for your pleasure\, courtesy of Thomas Jensen\, is a lovely ride down towards Chichester. \n\n\n\nRIDE DETAILS \nSunday July 27th\, with a briefing at 08:45\, wheels rolling 09:00.  Return anticipated around 16:00. \nMeeting Point Location:  Esso Petrol Station\, Dorking (18 London Road\, RH4 1JA) \nClosest Petrol Station:  Start point \nPre-ride coffee/tea: At start point   \nLunch stop: Planned at Tangmere Cockpit Cafe at Military Aviation Museum \nRide Description \nA lovely journey through the quiet roads of Surrey and Sussex down towards the coast.\nSimilar roads on the return.\nRound trip of about 140 miles\, planning to be back around 16:00. \n  \n\n** New and Recent members – remember please you will need to have had your Initial Assessment Ride with an Instructor to attend this and any other club riding activities \n** All members please carry your membership card on this and all club activities \n\nREGISTRATION \nThere are no restrictions on how many can join the ride\, but we ask that you please register by emailing the ride leader.  See details below. \n\nBack-Marker System\nOne of the riders will need to Back-Mark so any volunteer for this please advise the ride leader when you register for the ride.  If you have an orange Hi-Viz please bring it with you\, or one may be provided on the day\, or dependant on the size of the group an alternative marker may be agreed. \nPlease make sure you are fully conversant with the rules of the “BACK-MARKER SYSTEM“.  Following these correctly is vital to the smooth running of the day and reduces the risk of losing someone or everyone. Details of the BM system are on our Southernriders.org  website.   If you’re unsure on the day\, ask one of the attending Ride Leader. They will be more than happy to clarify any issues you have. \nHi-Viz\nIf you wear hi-viz\, please ensure it is not Orange as this is reserved for the ‘back-marker’ during our ride-outs.  We appreciate you may normally wear an orange hi-viz whilst riding. However\, some find it confusing when in the middle of the group to see two or more riders with the orange hi-viz.  So\, in an effort to avoid confusion and markers leaving their post prematurely ONLY the back-marker is to wear orange hi-viz.   Thank you
URL:https://www.southernriders.org/event/july-eom-ride-out-3/
LOCATION:Dorking Esso\, 18 LONDON ROAD\, DORKING\, RH4 1JA\, Dorking\, Surrey\, RH4 1JA\, United Kingdom
CATEGORIES:Ride Out
ATTACH;FMTTYPE=image/jpeg:https://www.southernriders.org/wp-content/uploads/2023/05/oxford-roads-3-e1751012306962.jpeg
END:VEVENT
END:VCALENDAR