BEGIN:VCALENDAR
VERSION:2.0
PRODID:-//RoADaR Southern Riders - ECPv6.6.1//NONSGML v1.0//EN
CALSCALE:GREGORIAN
METHOD:PUBLISH
X-ORIGINAL-URL:https://www.southernriders.org
X-WR-CALDESC:Events for RoADaR Southern Riders
REFRESH-INTERVAL;VALUE=DURATION:PT1H
X-Robots-Tag:noindex
X-PUBLISHED-TTL:PT1H
BEGIN:VTIMEZONE
TZID:UTC
BEGIN:STANDARD
TZOFFSETFROM:+0000
TZOFFSETTO:+0000
TZNAME:UTC
DTSTART:20250101T000000
END:STANDARD
END:VTIMEZONE
BEGIN:VEVENT
DTSTART;TZID=UTC:20250907T083000
DTEND;TZID=UTC:20250907T140000
DTSTAMP:20260419T173329
CREATED:20241014T094851Z
LAST-MODIFIED:20250920T104127Z
UID:5024-1757233800-1757253600@www.southernriders.org
SUMMARY:Mickeys Group Sunday Training
DESCRIPTION:Arrive early for coffee and chat – anything from 8:45am \nInstructor allocation for initial assessments and on-going training commences at 9:30am \nNo need to book/register – simply turn up\, all welcome. \nIf the weather is 3C or below overnight\, then this session will be automatically cancelled. \nWe only use the BBC Weather for our information.  Click below to check for Mickeys\n  \n** All members to carry your membership card on club activities. **
URL:https://www.southernriders.org/event/mickeys-group-sunday-training-17/
LOCATION:Mickey’s Diner\, Old Chatham Road\, Aylesford\, Maidstone\, Kent\, ME20 7EZ\, United Kingdom
CATEGORIES:Monthly Meet Up,Training
ATTACH;FMTTYPE=image/jpeg:https://www.southernriders.org/wp-content/uploads/2021/08/collection2.jpg
ORGANIZER;CN="Paul Ingleton":MAILTO:p.p.ingleton@btinternet.com
END:VEVENT
BEGIN:VEVENT
DTSTART;VALUE=DATE:20250908
DTEND;VALUE=DATE:20250912
DTSTAMP:20260419T173329
CREATED:20241204T190354Z
LAST-MODIFIED:20250920T104127Z
UID:5115-1757289600-1757635199@www.southernriders.org
SUMMARY:Wales Tour/Wizz - September 2025
DESCRIPTION:This is a tour/wizz that has become such a group favourite that we currently do it twice a year! Broadly speaking\, for 2025 we will repeat the previous successful format\, travelling to Wales on a Monday and returning on a Thursday\, with two full days exploring some of the very best roads in the UK. We deliberately choose to avoid school holidays and weekends\, so we don’t have to share with too many caravans or other traffic.  Overall we’re talking of around 1200 miles planned and organised into manageable stages. \nFor 2025 we are proposing for July 7th – 10th and September 8th – 11th. \nThis event is open to all our group members\, and we do encourage Tour/Wizz newbies.  But please be aware that the overall mileage\, duration\, road conditions and weather combine to make this a challenging trip… ie: tiring but fun.. and very rewarding!  Please read the notes below and check with your instructor if you are in doubt as to the suitability of the trip. \nI will once again be aided and abetted by my two Welsh Politburo co-conspirators Roger Manning and Hugh Curran. \nNOTE: We will be based in Mid West Wales\, with the venue and price currently a work in progress.  Further updates once we have finalised details. \nThe price has yet to be confirmed but we are working on £195 sharing and £275 single rooms for the three nights half board (ie: bed\, breakfast and evening meal).  Please note that single rooms will likely be in short supply.  We shall be limiting Tour/Wizz numbers to a manageable maximum of 30 riders\, and if previous trips are anything to go by\, demand will greatly outstrip supply\, and spaces may have to be allocated as fairly as we can.  Pillions are very welcome. \n*IMPORTANT* \nWhilst our Tours / Wizzes are open to all; we do have some safety criteria that you must meet.  So before you come forward and to avoid disappointment please read our Preparing for a Tour and ensure you are comfortable with the advice and that you do or will meet the criteria.\nIf in any doubt then discuss with your Instructor\, Roger or myself. \nIf you would like to reserve a place (to be confirmed once final details are known)\, or have questions\, please email me on timbenians@gmail.com.\nIn the first instance\, please let me know the dates you want to book for\, and your sharing/single room preference. \nThanks\, Tim \n 
URL:https://www.southernriders.org/event/wales-tour-sept-2025/
CATEGORIES:Tour,Wizz
ATTACH;FMTTYPE=image/jpeg:https://www.southernriders.org/wp-content/uploads/2023/05/wales-roads-2-e1703155584149.jpg
ORGANIZER;CN="Tim Benians":MAILTO:timbenians@gmail.com
END:VEVENT
BEGIN:VEVENT
DTSTART;TZID=UTC:20250914T083000
DTEND;TZID=UTC:20250914T143000
DTSTAMP:20260419T173329
CREATED:20241014T133033Z
LAST-MODIFIED:20250920T104127Z
UID:5046-1757838600-1757860200@www.southernriders.org
SUMMARY:Tulleys Training Sunday
DESCRIPTION:Arrive early for coffee and chat – anything from 8:45am \nInstructor allocation for initial assessments and on-going training commences at 9:30am \nNo need to book/register – simply turn up\, all welcome. \nIf the weather is 3C or below overnight\, then this session will be automatically cancelled. \nWe only use the BBC Weather for our information.  Click below to check for Turners Hill.\n  \n** All members to carry your membership card on club activities. **
URL:https://www.southernriders.org/event/tulleys-training-sunday-7/
LOCATION:Tulleys Farm\, Tulleys Escape Rooms\, Turners Hill Rd\, Worth\, Crawley Down\, Crawley\, West Sussex\, RH10 4PE\, United Kingdom
CATEGORIES:Monthly Meet Up,Training
ATTACH;FMTTYPE=image/jpeg:https://www.southernriders.org/wp-content/uploads/2021/08/Collection3.jpg
ORGANIZER;CN="Andy Palmer":MAILTO:aspalm600@gmail.com
END:VEVENT
BEGIN:VEVENT
DTSTART;VALUE=DATE:20250924
DTEND;VALUE=DATE:20250929
DTSTAMP:20260419T173329
CREATED:20241205T085650Z
LAST-MODIFIED:20250920T104127Z
UID:5121-1758672000-1759103999@www.southernriders.org
SUMMARY:The Wee Scottish Tour/Wizz 2025
DESCRIPTION:Our Scottish Wizz for 2025 will as usual avoid the school holiday dates to miss the crowds and enjoy the amazing quiet roads and beauty of the Highlands. \nThis is open to all the membership and will be a minimum of a seven (7) day trip;  five (5) in the Highlands with a day either side to travel up and back home. Most however take two days up and two days back home. \nPlease note that\, for the trips up and back the rider remains responsible for sourcing their own accommodation. \nOverall\, you can expect to be covering around 2500-2700 miles including travel from the Sussex/Surrey area\, planned and organised into manageable stages in true SMART tradition. \nWhilst we do ride on parts of the NC500 route\, we also discover the quieter and most spectacular roads around the Highlands as well as taking a trip to the Isle of Skye. \nThis trip is all about the riding and the amazing roads and scenery. The roads are grippy and retain most of that grip even should the worst happen and we suffer some rain ! \nStops will include the infamous John O’Groats\, various stunning stops along the north and west coasts and at least one stop on the Isle of Skye. \nAccommodation will be in Beauly\, near Inverness at The Priory Hotel\, on a dinner\, bed and breakfast basis\, so the only extras will be coffee and cake stops\, and also lunch stops once you have arrived. Oh and of course a beer in the evening! \nThe prices are as follows:\n£135 per person per night for single occupancy in a Double or Twin Room\n£105 per person per night sharing a Double or Twin Room \n  \nDates are expected to be September 24th – September 28th\, 2025 with 12 rooms already pre-booked. So if you want to bring a partner as pillion\, or of course on their own wheels\, get in there whilst the double rooms are available. First come\, first served. \n*IMPORTANT* \nWhilst our Tours / Wizzes are open to all; we do have some safety criteria that you must meet.  So before you come forward and to avoid disappointment please read our Preparing for a Tour and ensure you are comfortable with the advice and that you do or will meet the criteria.  If in any doubt as to the suitability of this trip then please discuss with your Instructor or directly with me andy.reohorn@gmail.com . \nINTERESTED \nIf you would like more information or wish to reserve your place and join us then email me directly on andy.reohorn@gmail.com – please advise on your room preference and whether attending as a single or duo. \n 
URL:https://www.southernriders.org/event/the-wee-scottish-tour-wizz-2025/
CATEGORIES:Tour,Wizz
ATTACH;FMTTYPE=image/png:https://www.southernriders.org/wp-content/uploads/2023/10/Scottish-Wizz-e1697039596256.png
ORGANIZER;CN="Andy Reohorn":MAILTO:andy.reohorn@gmail.com
END:VEVENT
BEGIN:VEVENT
DTSTART;TZID=UTC:20250924T093000
DTEND;TZID=UTC:20250924T153000
DTSTAMP:20260419T173329
CREATED:20241014T140106Z
LAST-MODIFIED:20250920T104144Z
UID:5076-1758706200-1758727800@www.southernriders.org
SUMMARY:Tulleys Training - mid month Wednesday
DESCRIPTION:Arrive early for coffee and chat – anything from 9:45am \nInstructor allocation for initial assessments and on-going training commences at 10:30am \nNo need to book/register – simply turn up\, all welcome. \nIf the weather is 3C or below overnight\, then this session will be automatically cancelled. \nWe only use the BBC Weather for our information.  Click below to check for Turners Hill.\n  \n** All members to carry your membership card on club activities. **
URL:https://www.southernriders.org/event/tulleys-training-mid-month-wednesday-8/
LOCATION:Tulleys Farm\, Tulleys Escape Rooms\, Turners Hill Rd\, Worth\, Crawley Down\, Crawley\, West Sussex\, RH10 4PE\, United Kingdom
CATEGORIES:Monthly Meet Up,Training
ATTACH;FMTTYPE=image/jpeg:https://www.southernriders.org/wp-content/uploads/2021/10/Tulleys.jpg
ORGANIZER;CN="Andy Palmer":MAILTO:aspalm600@gmail.com
END:VEVENT
BEGIN:VEVENT
DTSTART;TZID=UTC:20250928T080000
DTEND;TZID=UTC:20250928T170000
DTSTAMP:20260419T173329
CREATED:20241003T150656Z
LAST-MODIFIED:20250920T104144Z
UID:4966-1759046400-1759078800@www.southernriders.org
SUMMARY:SEPTEMBER EOM Ride Out
DESCRIPTION:On offer for your pleasure courtesy of one of our newer instructors – Paul Matchett is a lovely ride through Sussex and Hampshire. \n\n\n\nRIDE DETAILS \nSunday September 28th – Meet at 08:00 (or before for coffee);  Pre-ride briefing at 08:15;  Wheels up at 08:30.  Return anticipated (different location) around 15:30 \nMeeting Point Location:  Pease Pottage Services\, M23 Junction\, 11 Brighton Rd\, Crawley RH11 9YA \nClosest Petrol Station:  At the start point \nPre-ride coffee/tea:  At the start point \nLunch stop: Army Flying Museum \nRide Description \nConsisting of a mix of A\, B and minor roads for a total of 160 miles.\nOutward Route:\nWe start our journey through the A & B roads of Sussex\, heading towards Chichester and then on towards Havant\, where we’ll stop at Shell Services\, (Durrants Rd\, Rowlands Castle\, Havant PO9 6BB) for a quick coffee/comfort/fuel break. We then head west on a mixture of roads before looping round to the south of Winchester and up to the Army Flying Museum. Total distance 100 miles\nReturn Route: After lunch we head a more direct route back eventually finishing at Billingshurst Services\, Unit 2\, Business Park\, New Rd\, Billingshurst RH14 9LY. Total distance 60 miles \n  \n\n** New and Recent members – remember please you will need to have had your Initial Assessment Ride with an Instructor to attend this and any other club riding activities \n** All members please carry your membership card on this and all club activities \n\nREGISTRATION \nThere are no restrictions on how many can join the ride\, but we ask that you please register by emailing the ride leader.  See details below. \n\nWeather\nAs with all Group Ride Outs\, please note that if the overnight temperature is forecast to be 3C degrees or below at the ride start meeting place\, the ride out will be cancelled automatically.   There will not normally be a second notification if this is the case.  We only use the BBC Weather for our information.\n  \nBack-Marker System\nOne of the riders will need to Back-Mark so any volunteer for this please advise the ride leader when you register for the ride.  If you have an orange Hi-Viz please bring it with you\, or one may be provided on the day\, or dependant on the size of the group an alternative marker may be agreed. \nPlease make sure you are fully conversant with the rules of the “BACK-MARKER SYSTEM“.  Following these correctly is vital to the smooth running of the day and reduces the risk of losing someone or everyone. Details of the BM system are on our Southernriders.org  website.   If you’re unsure on the day\, ask one of the attending Ride Leader. They will be more than happy to clarify any issues you have. \nHi-Viz\nIf you wear hi-viz\, please ensure it is not Orange as this is reserved for the ‘back-marker’ during our ride-outs.  We appreciate you may normally wear an orange hi-viz whilst riding. However\, some find it confusing when in the middle of the group to see two or more riders with the orange hi-viz.  So\, in an effort to avoid confusion and markers leaving their post prematurely ONLY the back-marker is to wear orange hi-viz.   Thank you
URL:https://www.southernriders.org/event/september-eom-ride-out-4/
LOCATION:Pease Pottage Services\, M23 Junction 11 (A23)\, Brighton Road\, Crawley\,\, RH11 9YA\, United Kingdom
CATEGORIES:Ride Out
ATTACH;FMTTYPE=image/jpeg:https://www.southernriders.org/wp-content/uploads/2023/05/Oxfordshire-roads-scaled.jpg
ORGANIZER;CN="Paul Matchett":MAILTO:paul@matchett.uk.com
END:VEVENT
END:VCALENDAR